BEGIN:VCALENDAR
VERSION:2.0
PRODID:-//wp-events-plugin.com//7.2.3.1//EN
TZID:America/Detroit
X-WR-TIMEZONE:America/Detroit
BEGIN:VEVENT
UID:34144@arabamerica.com
DTSTART;TZID=America/Detroit:20250313T190000
DTEND;TZID=America/Detroit:20250313T230000
DTSTAMP:20250312T221236Z
URL:https://www.arabamerica.com/events/join-studentsorganize4syria-sams-fo
 r-iftar-at-muslim-community-mosque/
SUMMARY:Join StudentsOrganize4Syria & SAMS for Iftar at Muslim Community Mo
 sque
DESCRIPTION:FARMINGTON HILLS\, MI\n\nJoin Students Organize 4 Syria and SAM
 S for iftar at the Muslim Community Mosque/Islamic Cultural Association on
  Thursday\, March 13nd\, 2025. To save your spot\, purchase your tickets t
 oday by debit/credit card\, (Not PayPal).\n\nJoin us for a heartfelt eveni
 ng of generosity and compassion. As we break our fast\, we invite you to s
 upport a cause close to our hearts — delivering much-needed medical reli
 ef to the people of Syria. Let’s come together to offer hope\, healing\,
  and humanity to those in need. Your presence and support can change lives
 .\n\nFor questions\, please email info@sams-usa.net. Can't make it\, but 
 want to donate\, please visit: Syrian American Medical Society (SAMS) Fou
 ndation\n\nThank you.\n\nSAMS would like to express its sincere thanks to 
 SOS4Syria and the Muslim Community Mosque for partnering with us to hold t
 his fundraising event.\n\nSyrian American Medical Society Foundation\n\nww
 w.sams-usa.net
ATTACH;FMTTYPE=image/jpeg:https://www.arabamerica.com/wp-content/uploads/2
 025/03/Screen-Shot-2025-03-12-at-18.16.46.png
LOCATION:Muslim Community Mosque: Home of the Islamic Cultural Association\
 , 35700 West 12 Mile\, Farmington Hills\, MI\, 48331\, United States
GEO:42.498886;-83.401119
X-APPLE-STRUCTURED-LOCATION;VALUE=URI;X-ADDRESS=35700 West 12 Mile\, Farmin
 gton Hills\, MI\, 48331\, United States;X-APPLE-RADIUS=100;X-TITLE=Muslim 
 Community Mosque: Home of the Islamic Cultural Association:geo:42.498886,-
 83.401119
END:VEVENT
BEGIN:VTIMEZONE
TZID:America/Detroit
X-LIC-LOCATION:America/Detroit
BEGIN:DAYLIGHT
DTSTART:20250309T030000
TZOFFSETFROM:-0500
TZOFFSETTO:-0400
TZNAME:EDT
END:DAYLIGHT
END:VTIMEZONE
END:VCALENDAR