BEGIN:VCALENDAR
VERSION:2.0
PRODID:-//wp-events-plugin.com//7.2.3.1//EN
TZID:America/Detroit
X-WR-TIMEZONE:America/Detroit
BEGIN:VEVENT
UID:35186@arabamerica.com
DTSTART;TZID=America/Los_Angeles:20251011T180000
DTEND;TZID=America/Los_Angeles:20251011T203000
DTSTAMP:20251001T045538Z
URL:https://www.arabamerica.com/events/join-us-for-an-evening-with-bassem-
 youssef-conversation-and-change-2/
SUMMARY:Join us for an Evening with Bassem Youssef: Conversation and Change
DESCRIPTION:IRVINE\, CA\n\nPenny Appeal USA is proud to host Bassem Yousse
 f\, the Egyptian-American comedian and former surgeon widely recognized a
 s the “Jon Stewart of the Arab World.” Known for his fearless satire\,
  his groundbreaking TV show\, and his starring role in the acclaimed docum
 entary Tickling Giants\, Bassem Youssef has become one of the world’s m
 ost influential voices on politics\, media\, and social justice.\n\nWith h
 is sharp humor and candid storytelling\, Bassem will bring both levity and
  insight to an urgent conversation on what’s happening in Gaza and hig
 hlighting the human cost of conflict and the power of laughter and truth t
 o challenge oppression.\n\nThis event is not only an evening of entertainm
 ent and reflection. It’s also a call to action. Together\, we’ll raise
  critical funds to support Penny Appeal USA’s life-saving humanitarian p
 rograms in Gaza and beyond.\n\nGuiding the program will be Paul Elia\, a
 ctor\, comedian\, and writer\, whose energy and wit will keep the audience
  engaged from start to finish. Brother Ali\, the acclaimed hip hop artist
  and activist\, whose powerful performance will inspire and move the room.
 \n\nLocation:\n\nRegal Spectrum Irvine\n\n500 Spectrum Center Dr\n\nIrvine
 \, CA 92618\n\nTickets:\n\n 	Early Bird $50 (until Sept 15)\n 	Student $40
  (with valid ID - will check at door)\n 	Regular $65 (after Sept 15)\n 	VI
 P Meet &amp\; Greet $125 (includes access to Bassem Youssef + performers)\
 n
ATTACH;FMTTYPE=image/jpeg:https://www.arabamerica.com/wp-content/uploads/2
 025/10/Screen-Shot-2025-10-01-at-12.52.33-AM.png
LOCATION:Regal Irvine Spectrum\, 500 Spectrum Center Drive\, Irvine\, Calif
 ornia \, 92618\, United States
GEO:33.651986;-117.745159
X-APPLE-STRUCTURED-LOCATION;VALUE=URI;X-ADDRESS=500 Spectrum Center Drive\,
  Irvine\, California \, 92618\, United States;X-APPLE-RADIUS=100;X-TITLE=R
 egal Irvine Spectrum:geo:33.651986,-117.745159
END:VEVENT
BEGIN:VTIMEZONE
TZID:America/Los_Angeles
X-LIC-LOCATION:America/Los_Angeles
BEGIN:DAYLIGHT
DTSTART:20250309T030000
TZOFFSETFROM:-0800
TZOFFSETTO:-0700
TZNAME:PDT
END:DAYLIGHT
END:VTIMEZONE
END:VCALENDAR