BEGIN:VCALENDAR
VERSION:2.0
PRODID:-//wp-events-plugin.com//7.2.3.1//EN
TZID:America/Detroit
X-WR-TIMEZONE:America/Detroit
BEGIN:VEVENT
UID:34407@arabamerica.com
DTSTART;TZID=America/Detroit:20250517T120000
DTEND;TZID=America/Detroit:20250517T120000
DTSTAMP:20250514T012633Z
URL:https://www.arabamerica.com/events/join-us-for-our-first-coffee-hour/
SUMMARY:Join Us for Our First Coffee Hour
DESCRIPTION:TEMPE. AZ\n\nThe Arizona Chapter of the Arab America Foundation
  is excited to invite you to its first-ever Coffee Hour—a casual and wel
 coming gathering designed to bring together members of the Arab American c
 ommunity and friends. Join us for great conversation\, community connectio
 n\, and\, of course\, a good cup of coffee
ATTACH;FMTTYPE=image/jpeg:https://www.arabamerica.com/wp-content/uploads/2
 025/05/e7acfefd-3bf9-4b19-a153-0457a6dcc2ac.jpeg
LOCATION:Shaghf Coffee\, 1250 E Apache Blvd\, Tempe\, AZ\, United States
GEO:33.415542;-111.918389
X-APPLE-STRUCTURED-LOCATION;VALUE=URI;X-ADDRESS=1250 E Apache Blvd\, Tempe\
 , AZ\, United States;X-APPLE-RADIUS=100;X-TITLE=Shaghf Coffee:geo:33.41554
 2,-111.918389
END:VEVENT
BEGIN:VTIMEZONE
TZID:America/Detroit
X-LIC-LOCATION:America/Detroit
BEGIN:DAYLIGHT
DTSTART:20250309T030000
TZOFFSETFROM:-0500
TZOFFSETTO:-0400
TZNAME:EDT
END:DAYLIGHT
END:VTIMEZONE
END:VCALENDAR