BEGIN:VCALENDAR
VERSION:2.0
PRODID:-//wp-events-plugin.com//7.2.3.1//EN
TZID:America/Detroit
X-WR-TIMEZONE:America/Detroit
BEGIN:VEVENT
UID:34062@arabamerica.com
DTSTART;TZID=America/Detroit:20250222T110000
DTEND;TZID=America/Detroit:20250222T130000
DTSTAMP:20250217T005708Z
URL:https://www.arabamerica.com/events/join-us-to-discuss-arab-heritage-mo
 nth-2025/
SUMMARY:JOIN US TO DISCUSS ARAB HERITAGE MONTH 2025
DESCRIPTION:
ATTACH;FMTTYPE=image/jpeg:https://www.arabamerica.com/wp-content/uploads/2
 025/02/unnamed-1-1.jpg
LOCATION:Greenbelt Branch Memorial Library\, 11 Crescent Rd\, Greenbelt\, M
 D\, 20770\, United States
GEO:39.000778;-76.879357
X-APPLE-STRUCTURED-LOCATION;VALUE=URI;X-ADDRESS=11 Crescent Rd\, Greenbelt\
 , MD\, 20770\, United States;X-APPLE-RADIUS=100;X-TITLE=Greenbelt Branch M
 emorial Library:geo:39.000778,-76.879357
END:VEVENT
BEGIN:VTIMEZONE
TZID:America/Detroit
X-LIC-LOCATION:America/Detroit
BEGIN:STANDARD
DTSTART:20241103T010000
TZOFFSETFROM:-0400
TZOFFSETTO:-0500
TZNAME:EST
END:STANDARD
END:VTIMEZONE
END:VCALENDAR