BEGIN:VCALENDAR
VERSION:2.0
PRODID:-//wp-events-plugin.com//7.2.3.1//EN
TZID:America/Detroit
X-WR-TIMEZONE:America/Detroit
BEGIN:VEVENT
UID:36238@arabamerica.com
DTSTART;TZID=America/Detroit:20260502T000000
DTEND;TZID=America/Detroit:20260503T000000
DTSTAMP:20260422T034157Z
URL:https://www.arabamerica.com/events/journey-through-egypt-part-1-jte-1/
SUMMARY:Journey Through Egypt ~ Part 1 (JTE 1)
DESCRIPTION:FONTANA\, CA\n\n\n\nCalling all Belly Dancers: Immerse yourself
  with Sahra in a exploration of dance's evolution from the people's homes 
 to the stages of Cairo!\n\n\n\n\n\nJTE 1~ Journey Through Egypt Part 1\nMa
 y 2nd &amp\; 3rd\, 2026\n\n"With the spread of misinformation today about 
 the Middle Eastern and Arabic Cultures\, it is more important than ever to
  be knowledgeable of the culture and history of our dance form\," _Sahra\n
 \nJoin us for this 2-day event to learn movement posture\, clothing histor
 y\, lectures\, music\, videos\, and cultural diffusion across various regi
 ons of Egypt. Dance studies include Bedouin\, Ghawazee\, Cairo\, Sa'ide\, 
 Nubian\, Haggallah\, Suez Canal\, and Felahin.\n\nCheck Sahra's website fo
 r more info @journeythroughegypt.com\n\nMaterials and certificate of parti
 cipation are included with your certification.\n\nPayment Info ($275.00): 
 Zelle @francescortes@yahoo.com\, Cash App: $ratonel\n\nJoin us!\n\n\n
ATTACH;FMTTYPE=image/jpeg:https://www.arabamerica.com/wp-content/uploads/2
 026/04/image-2-2.webp
CATEGORIES:#arabic
LOCATION:Route 66 Dance Studio\, 16655 West Foothill Boulevard\, Fontana\, 
 CA\, 92335\, United States
GEO:34.106173;-117.441548
X-APPLE-STRUCTURED-LOCATION;VALUE=URI;X-ADDRESS=16655 West Foothill Bouleva
 rd\, Fontana\, CA\, 92335\, United States;X-APPLE-RADIUS=100;X-TITLE=Route
  66 Dance Studio:geo:34.106173,-117.441548
END:VEVENT
BEGIN:VTIMEZONE
TZID:America/Detroit
X-LIC-LOCATION:America/Detroit
BEGIN:DAYLIGHT
DTSTART:20260308T030000
TZOFFSETFROM:-0500
TZOFFSETTO:-0400
TZNAME:EDT
END:DAYLIGHT
END:VTIMEZONE
END:VCALENDAR