BEGIN:VCALENDAR
VERSION:2.0
PRODID:-//wp-events-plugin.com//7.2.3.1//EN
TZID:America/Detroit
X-WR-TIMEZONE:America/Detroit
BEGIN:VEVENT
UID:30399@arabamerica.com
DTSTART;TZID=America/Detroit:20230617T140000
DTEND;TZID=America/Detroit:20230617T150000
DTSTAMP:20230206T040238Z
URL:https://www.arabamerica.com/events/june-english-arabic-storytime/
SUMMARY:June English-Arabic Storytime
DESCRIPTION:Dearborn\, MI\n2 p.m. ET Saturday\, June 17\, 2023\nJune Englis
 h-Arabic Storytime\n\nJoin us for an English-Arabic Storytime at AANM! C
 hildren ages 2-6 and their parents are invited to join as our storyteller 
 reads a book in both English and Arabic.\n\n
ATTACH;FMTTYPE=image/jpeg:https://www.arabamerica.com/wp-content/uploads/2
 023/02/Screen-Shot-2023-02-05-at-11.00.53-PM.png
CATEGORIES:Storytelling
LOCATION:Russell J. Ebeid Library & Resource Center @ AANM\, 13624 Michigan
  Avenue\,\, Detroit \, MI\, United States
GEO:42.322259;-83.1766447
X-APPLE-STRUCTURED-LOCATION;VALUE=URI;X-ADDRESS=13624 Michigan Avenue\,\, D
 etroit \, MI\, United States;X-APPLE-RADIUS=100;X-TITLE=Russell J. Ebeid L
 ibrary & Resource Center @ AANM:geo:42.322259,-83.1766447
END:VEVENT
BEGIN:VTIMEZONE
TZID:America/Detroit
X-LIC-LOCATION:America/Detroit
BEGIN:DAYLIGHT
DTSTART:20230312T030000
TZOFFSETFROM:-0500
TZOFFSETTO:-0400
TZNAME:EDT
END:DAYLIGHT
END:VTIMEZONE
END:VCALENDAR