BEGIN:VCALENDAR
VERSION:2.0
PRODID:-//wp-events-plugin.com//7.2.3.1//EN
TZID:America/Detroit
X-WR-TIMEZONE:America/Detroit
BEGIN:VEVENT
UID:34541@arabamerica.com
DTSTART;TZID=America/Detroit:20250702T180000
DTEND;TZID=America/Detroit:20250714T193000
DTSTAMP:20250609T234701Z
URL:https://www.arabamerica.com/events/kahlil-gibran-the-prophet-from-leba
 non/
SUMMARY:Kahlil Gibran\, the Prophet from Lebanon
DESCRIPTION:NEW YORK\, NY\n\nOn Wednesday\, July 2nd\, CHC Member Mark Wood
 cock screens his documentary\, Kahlil Gibran\, the Prophet from Lebanon\n\
 n&nbsp\;\n\nJoin the Coffee House and CHC Member Mark Woodcock for the scr
 eening of a documentary biopic on Kahlil Gibran\, the Lebanese-American po
 et\, painter\, and author of The Prophet and other works\, who died in 193
 1. Woodcock began working on the project in 1979\, at the request of the L
 ebanese Ambassador to the UN\, Ghassan Tueni\, who hoped to encourage a be
 tter understanding of Lebanon and its role in shaping the life and work of
  its famous emigrant to America.\n\nThe film is especially relevant today\
 , given current events in Lebanon and the region. Work on the project ceas
 ed in the early 1980s as Lebanon suffered further turmoil and I had to foc
 us on other projects. Now\, after 45 years\, it is hoped that this 65-minu
 te "prototype" will lead to refinancing a feature-length film (originally 
 to have starred Omar Sharif as the on-camera host and Orson Welles reading
  verses from Gibran's writings).\n\nDinner to follow.\n\n&nbsp\;\n\nNew Yo
 rk event\, New York seminars\, New York film and Media\, Lebanon films
ATTACH;FMTTYPE=image/jpeg:https://www.arabamerica.com/wp-content/uploads/2
 025/06/Screenshot-2025-06-09-at-7.43.57 PM.png
LOCATION:Salmagundi Club\, 47 5th Ave \, New York\, NY\, 10003\, United Sta
 tes
GEO:40.734286;-73.994529
X-APPLE-STRUCTURED-LOCATION;VALUE=URI;X-ADDRESS=47 5th Ave \, New York\, NY
 \, 10003\, United States;X-APPLE-RADIUS=100;X-TITLE=Salmagundi Club:geo:40
 .734286,-73.994529
END:VEVENT
BEGIN:VTIMEZONE
TZID:America/Detroit
X-LIC-LOCATION:America/Detroit
BEGIN:DAYLIGHT
DTSTART:20250309T030000
TZOFFSETFROM:-0500
TZOFFSETTO:-0400
TZNAME:EDT
END:DAYLIGHT
END:VTIMEZONE
END:VCALENDAR