BEGIN:VCALENDAR
VERSION:2.0
PRODID:-//wp-events-plugin.com//7.2.3.1//EN
TZID:America/Detroit
X-WR-TIMEZONE:America/Detroit
BEGIN:VEVENT
UID:33179@arabamerica.com
DTSTART;TZID=America/Detroit:20240817T163000
DTEND;TZID=America/Detroit:20240817T193000
DTSTAMP:20240708T163053Z
URL:https://www.arabamerica.com/events/khadijat-quadri-author-talk-indigen
 -journeys-of-a-wounded-healer/
SUMMARY:Khadijat Quadri- Author Talk "INDIGEN " JOURNEYS OF A WOUNDED HEALE
 R
DESCRIPTION:SAN ANTONIO\, TX\n\n\n\n\n\n\nJoin us for a memorable book sign
 ing event with Khadijat Quadri\, the visionary author of Indigen: Journeys
  of a wounded healer\, which is a spiritual and multi-cultural guide for p
 sychotherapists and healers. Through her latest book\, she openly reveals 
 her troubled childhood in vivid detail\, the tough decisions she had to ma
 ke\, and her profound spiritual experiences that set her life on a whole n
 ew path towards enlightenment.\n\nKhadijat provides deep insights from her
  years of experience and studies in spirituality\, philosophy\, and psycho
 logy. She also shares real life case studies that reveal how merging ancie
 nt wisdom from various cultures with innovative modern science has helped 
 people to heal and transform their lives for the better.\n\nMeet with Khad
 ijat Quadri in person at the LYND Rooftop\, have your books signed and fee
 l free to ask her any questions you may have about her book. Light refresh
 ments will also be served for your enjoyment.\n\nABOUT THE AUTHOR\n\nKhadi
 jat Quadri\, nee Omobolanle Khadijat Alatise is a Licensed Professional Co
 unselor (LPC) with decades of experience in clinical mental health. Her ed
 ucation includes advanced degrees in mental health counseling and internat
 ional development\, as well as additional training in contemplative group 
 therapy\, transpersonal psychology\, hypnotherapy\, Reiki energy healing\,
  astrological psychology\, advanced GDV assessment\, advanced integrative 
 therapy\, energy psychology\, biofeedback modalities\, and sound frequency
  healing.\n\nwww.khadijatquadri.com\n\n\n\n\n\n\n\n\n\n\n\n\n\nEVENT AGEND
 A\n\n1. Opening Ceremony\n\nNative American Prayer and Intercession\n\nby 
 the Native American Community of San Antonio.\n\nChant of the Yoruba\n\nOp
 e mi koi to\, ojojumo ni o ma dupe. Ope mi koi to\, ojojumoni oma yo.\n\nO
 pe: Meaning\n\nMy gratitude will never be enough. Everyday I give thanks\,
  everyday\, I rejoice.\n\nShanti Mantra- A call for peace is a 6th Century
  Vedic Sanskrit text from the Taittariya Upanishad.\n\nMantra Vairocana Bu
 ddha\n\nOm Namo Bhagavate Sarvate Gate\, Varsuddhani Rajaya\, Ta Tha Ga Ta
  YaArahate Sam Yak Sam Buddhaya\, Ta Dya Tha Om Sodhani SodhaniSarva Papam
 \, Vishodani Suddhe Visuddhe\, Sarwa Karma AvaranaVisudhani Ya Soha.\n\nVa
 irocana Mantra meaning:\n\nMay all sentient beings have happiness and its 
 causes\,May all sentient beings be free of suffering and its causes\,May a
 ll sentient beings never be separated from bliss without suffering.\n\nChr
 istianity - The Lords Prayer\n\nOur Father\, which art in heaven\, Hallowe
 d be thy Name. Thy Kingdom come. Thy will be done in earth\, As it is in h
 eaven. Give us this day our daily bread. And forgive us our trespasses\, A
 s we forgive them that trespass against us. And lead us not into temptatio
 n\, But deliver us from evil. For thine is the kingdom\, The power\, and t
 he glory\, For ever and ever.\n\nIslam- Surah Al-Fatihah\n\nBismillah Ar-R
 ahman Ar-Raheem\n\nAl-hamdu lillahi Rabb il-'alamin\n\nAr-Rahman Ar-Raheem
 \n\nMaliki yawmi-d-Din\n\nIyya-ka na'budu wa iyya-ka nasta'in\n\nIhdina-si
 rat al-mustaqim\n\nSirat al-ladhina an'amta 'alai-him\n\nGhair il-Maghdubi
  'alai-him wa la-d-dallin\n\nIn the name of Allah\, the Most Beneficent\, 
 the Most Merciful.\n\nPraise be to Allah\, Lord of the Worlds:\n\nThe Most
  Beneficent\, the Most Merciful:\n\nOwner of the Day of Judgement.\n\nThee
  (alone) we worship\; Thee (alone) was ask for help.\n\nShow us the straig
 ht path:\n\nThe path of those whom Thou hast favoured\; Not (the path) of 
 those who earn Thine anger nor of those who go astray.\n\n2. Author Talk\n
 \n3. Book Reading\n\n4. Testimonial\n\n5. Book Signing\n\n6. Lunch and Net
 work\n\n\n\n\n\n
ATTACH;FMTTYPE=image/jpeg:https://www.arabamerica.com/wp-content/uploads/2
 024/07/temp-20.jpg
LOCATION:Flower In Flour\, 6915 Bandera Road 104\, San Antonio\, Texas\, 78
 238\, United States
GEO:29.498859;-98.621866
X-APPLE-STRUCTURED-LOCATION;VALUE=URI;X-ADDRESS=6915 Bandera Road 104\, San
  Antonio\, Texas\, 78238\, United States;X-APPLE-RADIUS=100;X-TITLE=Flower
  In Flour:geo:29.498859,-98.621866
END:VEVENT
BEGIN:VTIMEZONE
TZID:America/Detroit
X-LIC-LOCATION:America/Detroit
BEGIN:DAYLIGHT
DTSTART:20240310T030000
TZOFFSETFROM:-0500
TZOFFSETTO:-0400
TZNAME:EDT
END:DAYLIGHT
END:VTIMEZONE
END:VCALENDAR