BEGIN:VCALENDAR
VERSION:2.0
PRODID:-//wp-events-plugin.com//7.2.3.1//EN
TZID:America/Detroit
X-WR-TIMEZONE:America/Detroit
BEGIN:VEVENT
UID:35871@arabamerica.com
DTSTART;TZID=America/Detroit:20260308T190000
DTEND;TZID=America/Detroit:20260308T210000
DTSTAMP:20260216T152003Z
URL:https://www.arabamerica.com/events/khaymet-ramadan-michigan/
SUMMARY:Khaymet Ramadan - Michigan
DESCRIPTION:Step into the spirit of Ramadan at Bellagio\, as Arab Socials 
 brings the magic of Khaymet Ramadan from the Middle East to Michigan. Th
 is immersive iftar experience is designed to feel like a true Ramadan nigh
 t—warm\, communal\, and rooted in tradition.
ATTACH;FMTTYPE=image/jpeg:https://www.arabamerica.com/wp-content/uploads/2
 026/02/image-26.webp
CATEGORIES:Dearborn,Iftar,Iftar Dinner,Ramadan,Ramadan Banquet
LOCATION:Bellagio Banquet And Conference Center\, 23900 West Warren Avenue\
 , Dearborn Heights\, MI\, 48127\, United States
GEO:42.3414612;-83.2719156
X-APPLE-STRUCTURED-LOCATION;VALUE=URI;X-ADDRESS=23900 West Warren Avenue\, 
 Dearborn Heights\, MI\, 48127\, United States;X-APPLE-RADIUS=100;X-TITLE=B
 ellagio Banquet And Conference Center:geo:42.3414612,-83.2719156
END:VEVENT
BEGIN:VTIMEZONE
TZID:America/Detroit
X-LIC-LOCATION:America/Detroit
BEGIN:DAYLIGHT
DTSTART:20260308T030000
TZOFFSETFROM:-0500
TZOFFSETTO:-0400
TZNAME:EDT
END:DAYLIGHT
END:VTIMEZONE
END:VCALENDAR