BEGIN:VCALENDAR
VERSION:2.0
PRODID:-//wp-events-plugin.com//7.2.3.1//EN
TZID:America/Detroit
X-WR-TIMEZONE:America/Detroit
BEGIN:VEVENT
UID:34888@arabamerica.com
DTSTART;TZID=America/Detroit:20250822T163000
DTEND;TZID=America/Detroit:20250822T170000
DTSTAMP:20250804T183552Z
URL:https://www.arabamerica.com/events/kids-virtual-arabic-course-fall-202
 5-info-session-2/
SUMMARY:Kids Virtual Arabic Course Fall 2025 Info Session
DESCRIPTION:\n\n\n\n\n\n\n\n\nJoin Us for an Info Session on Our Fall 2025 
 Kids Arabic Course.Curious about our Kids Arabic Program? On August 22nd f
 rom 4:30 - 5 PM\, Al-Bustan Seeds of Culture will host a virtual info sess
 ion via Zoom to introduce our Fall 2025 Kids Arabic Course.Meet our Arabic
  language instructor and program manager\, who will walk you through the c
 ourse structure and answer any questions you may have so you can feel conf
 ident that this course is the right fit for your child.Attendance is $10\,
  register through the button below. Following registration\, a zoom link w
 ill be sent to you via email.\n\n\n\n\n\n\n\n\n\n\n\n\n\n\n\n
ATTACH;FMTTYPE=image/jpeg:https://www.arabamerica.com/wp-content/uploads/2
 025/08/Screenshot-2025-08-04-at-2.29.37-PM.png
END:VEVENT
BEGIN:VTIMEZONE
TZID:America/Detroit
X-LIC-LOCATION:America/Detroit
BEGIN:DAYLIGHT
DTSTART:20250309T030000
TZOFFSETFROM:-0500
TZOFFSETTO:-0400
TZNAME:EDT
END:DAYLIGHT
END:VTIMEZONE
END:VCALENDAR