BEGIN:VCALENDAR
VERSION:2.0
PRODID:-//wp-events-plugin.com//7.2.3.1//EN
TZID:America/Detroit
X-WR-TIMEZONE:America/Detroit
BEGIN:VEVENT
UID:32201@arabamerica.com
DTSTART;TZID=America/Detroit:20240309T180000
DTEND;TZID=America/Detroit:20240309T200000
DTSTAMP:20240206T034620Z
URL:https://www.arabamerica.com/events/ladies-solidarity-benefit-for-gaza-
 cincinnati/
SUMMARY:LADIES Solidarity Benefit For Gaza - Cincinnati
DESCRIPTION:\nAbout this event\n\n&nbsp\;\nJoin us for an evening of solida
 rity showcasing the rich tapestry of the Palestinian Culture while helping
  the people of Gaza.\n\n\n\n\n\n\n\nSolidarity Benefit For Gaza\n\nJoin us
  for a powerful evening of support and solidarity at OREF in Middletown\
 , Ohio. Together\, we can make a difference for the people of Gaza. This 
 in-person event is a unique opportunity to come together as a community a
 nd show our unwavering support for Palestine and more specifically\, the p
 eople of Gaza.\n\nJoin us for a traditional Palestinian dinner followed up
  with an evening of cultural appreciation and voices from the community to
  uplift our spirits and support our brothers and sisters in Gaza.\n\nKeyno
 te speakers: Roula Allouch alongside other powerful women from our communi
 ty.\n\nAll proceeds will be donated to Gaza via HEAL Palestine.\n\nWe kind
 ly request no children under the age of 12.\n\n\n&nbsp\;\n\n\n\n\n
ATTACH;FMTTYPE=image/jpeg:https://www.arabamerica.com/wp-content/uploads/2
 024/02/Screen-Shot-2024-02-05-at-10.43.42-PM.png
LOCATION:OREF\, 4340 Union Road\, Middletown\, OH\, 45005\, United States
GEO:39.505785;-84.315486
X-APPLE-STRUCTURED-LOCATION;VALUE=URI;X-ADDRESS=4340 Union Road\, Middletow
 n\, OH\, 45005\, United States;X-APPLE-RADIUS=100;X-TITLE=OREF:geo:39.5057
 85,-84.315486
END:VEVENT
BEGIN:VTIMEZONE
TZID:America/Detroit
X-LIC-LOCATION:America/Detroit
BEGIN:STANDARD
DTSTART:20231105T010000
TZOFFSETFROM:-0400
TZOFFSETTO:-0500
TZNAME:EST
END:STANDARD
END:VTIMEZONE
END:VCALENDAR