BEGIN:VCALENDAR
VERSION:2.0
PRODID:-//wp-events-plugin.com//7.2.3.1//EN
TZID:America/Detroit
X-WR-TIMEZONE:America/Detroit
BEGIN:VEVENT
UID:34443@arabamerica.com
DTSTART;TZID=America/Detroit:20250617T183000
DTEND;TZID=America/Detroit:20250617T193000
DTSTAMP:20250526T171945Z
URL:https://www.arabamerica.com/events/lanny-bell-an-egyptological-life/
SUMMARY:Lanny Bell: An Egyptological Life
DESCRIPTION:NEW YORK CITY\, NY\n\n\n\nWe are pleased to present a program a
 bout the late Lanny Bell in collaboration with the American Research Cente
 r in Egypt headquarters and its New York chapter. One of the world’s for
 emost Egyptologist who explored such renowned sites as Abydos and Luxor\, 
 Bell’s fascinating life and extraordinary legacy will be celebrated by s
 peakers Sue D’Auria\, Peter Lacovara\, and Sue Lezon. Bell excavated at 
 various locations throughout Egypt with the University of Pennsylvania and
  the Oriental Institute of the University of Chicago amongst other renown 
 institutions. He was uniquely chosen to brief President Jimmy Carter regar
 ding Egyptian culture and history.\n\n\n\n\n\n\nEntry to this event is not
  guaranteed with Eventbrite reservation. Please arrive no more than 15-20 
 minutes before the event start time. Seating is first-come\, first-served.
 \n\nPlease cancel your reservation if you are unable to attend.\n\nNAC mem
 bers need not RSVP.\n\n\n
ATTACH;FMTTYPE=image/jpeg:https://www.arabamerica.com/wp-content/uploads/2
 025/05/Screenshot-2025-05-26-at-1.20.17 PM.png
LOCATION:The National Arts Club\, 15 Gramercy Park South\, New York\, NY\, 
 United States
GEO:40.737694;-73.986703
X-APPLE-STRUCTURED-LOCATION;VALUE=URI;X-ADDRESS=15 Gramercy Park South\, Ne
 w York\, NY\, United States;X-APPLE-RADIUS=100;X-TITLE=The National Arts C
 lub:geo:40.737694,-73.986703
END:VEVENT
BEGIN:VTIMEZONE
TZID:America/Detroit
X-LIC-LOCATION:America/Detroit
BEGIN:DAYLIGHT
DTSTART:20250309T030000
TZOFFSETFROM:-0500
TZOFFSETTO:-0400
TZNAME:EDT
END:DAYLIGHT
END:VTIMEZONE
END:VCALENDAR