BEGIN:VCALENDAR
VERSION:2.0
PRODID:-//wp-events-plugin.com//7.2.3.1//EN
TZID:America/Detroit
X-WR-TIMEZONE:America/Detroit
BEGIN:VEVENT
UID:35338@arabamerica.com
DTSTART;TZID=America/Chicago:20251123T170000
DTEND;TZID=America/Chicago:20251123T200000
DTSTAMP:20251029T060217Z
URL:https://www.arabamerica.com/events/latte-lounge-arab-coffee-party-hous
 ton-tx/
SUMMARY:Latte & Lounge: Arab Coffee Party (Houston TX)
DESCRIPTION:HOUSTON\, TEXAS\n\n\n\n\nThe Arab Socials Coffee Party is where
  community meets culture. Enjoy Arabic coffee\, live DJ beats\, and great 
 company. All races are welcome\n\n\n\n\n\nCategory: Community\, Heritage\
 n&nbsp\;
ATTACH;FMTTYPE=image/jpeg:https://www.arabamerica.com/wp-content/uploads/2
 025/10/Screen-Shot-2025-10-29-at-2.00.54-AM.png
LOCATION:Pistachios Coffee Shop\, 9406 Gaylord Drive #700\, Houston\, Texas
  \, 77024\, United States
GEO:29.781708;-95.524641
X-APPLE-STRUCTURED-LOCATION;VALUE=URI;X-ADDRESS=9406 Gaylord Drive #700\, H
 ouston\, Texas \, 77024\, United States;X-APPLE-RADIUS=100;X-TITLE=Pistach
 ios Coffee Shop:geo:29.781708,-95.524641
END:VEVENT
BEGIN:VTIMEZONE
TZID:America/Chicago
X-LIC-LOCATION:America/Chicago
BEGIN:STANDARD
DTSTART:20251102T010000
TZOFFSETFROM:-0500
TZOFFSETTO:-0600
TZNAME:CST
END:STANDARD
END:VTIMEZONE
END:VCALENDAR