BEGIN:VCALENDAR
VERSION:2.0
PRODID:-//wp-events-plugin.com//7.2.3.1//EN
TZID:America/Detroit
X-WR-TIMEZONE:America/Detroit
BEGIN:VEVENT
UID:32204@arabamerica.com
DTSTART;TZID=America/Detroit:20240229T200000
DTEND;TZID=America/Detroit:20240229T220000
DTSTAMP:20240206T035843Z
URL:https://www.arabamerica.com/events/laugh-for-life-a-palestinian-childr
 en-relief-fund-pcrf-charity-show/
SUMMARY:Laugh for Life - A Palestinian Children Relief Fund (PCRF) Charity 
 Show!
DESCRIPTION:\nAbout this event\n\nCome out and support one of the first Pal
 estinian Charity Shows in New York City!\n\n\n\n\n\n\n\nCome out and suppo
 rt one of the first Palestinian charity shows hosted in New York City! The
  line-up is sure to provide a great night\, as it is filled with comedians
  from America's Got Talent\, Comedy Central\, LOL Network\, HBO Max\, an
 d more!\n\nAll the proceeds from the show will be going directly to the Pa
 lestinian Children Relief Fund (PCRF)!\n\n\n&nbsp\;\n\n\n\n\n
ATTACH;FMTTYPE=image/jpeg:https://www.arabamerica.com/wp-content/uploads/2
 024/02/Screen-Shot-2024-02-05-at-10.57.41-PM.png
LOCATION:St. Marks Comedy Club\, 12 Saint Marks Place \, New York\, NY\, 10
 003\, United States
GEO:40.728991;-73.989316
X-APPLE-STRUCTURED-LOCATION;VALUE=URI;X-ADDRESS=12 Saint Marks Place \, New
  York\, NY\, 10003\, United States;X-APPLE-RADIUS=100;X-TITLE=St. Marks Co
 medy Club:geo:40.728991,-73.989316
END:VEVENT
BEGIN:VTIMEZONE
TZID:America/Detroit
X-LIC-LOCATION:America/Detroit
BEGIN:STANDARD
DTSTART:20231105T010000
TZOFFSETFROM:-0400
TZOFFSETTO:-0500
TZNAME:EST
END:STANDARD
END:VTIMEZONE
END:VCALENDAR