BEGIN:VCALENDAR
VERSION:2.0
PRODID:-//wp-events-plugin.com//7.2.3.1//EN
TZID:America/Detroit
X-WR-TIMEZONE:America/Detroit
BEGIN:VEVENT
UID:34608@arabamerica.com
DTSTART;TZID=America/Detroit:20250727T180000
DTEND;TZID=America/Detroit:20250727T193000
DTSTAMP:20250617T172149Z
URL:https://www.arabamerica.com/events/laughter-for-liberation-a-fundraise
 r-for-gaza-2/
SUMMARY:Laughter for Liberation: A Fundraiser for Gaza
DESCRIPTION:\n\n\nCHICAGO\, IL\n\n&nbsp\;\nProceeds donated to Watermelon S
 isters\, a non-profit working tirelessly to provide food and water to the 
 most dire areas in Gaza\n\n\n\n\n\n\n\n\n\nCome join us for a night of lau
 ghter and community in solidarity with the people of Gaza! This benefit sh
 ow features some of Chicago's most exciting comics\, all with a healthy se
 nse of hilarity and all for a great cause.\n\nMerchandise will be availabl
 e for purchase to further benefit relief work in Gaza. All proceeds from t
 he event will go to Watermelon Sisters\, a non-profit working tirelessly t
 o provide food and water to the most dire areas and refugee camps in Gaza.
 \n\n***\n\nSpecial accommodations can be made for larger parties. Please e
 mail thelincolnlodge@gmail.com with information about your party size and 
 any specific requirements.\n\nREFUND POLICY: Please note that refunds are 
 only available by request up to 24 hours before the event start date. Requ
 ests for refunds after that will be declined but a credit note will be iss
 ued for future shows (via email.) Thanks.\n\n\n\n\n\n
ATTACH;FMTTYPE=image/jpeg:https://www.arabamerica.com/wp-content/uploads/2
 025/06/laughter_for_liberation.png
LOCATION:The Lincoln Lodge\, 2040 North Milwaukee Avenue\, Chicago\, IL\, U
 nited States
GEO:41.918237;-87.690271
X-APPLE-STRUCTURED-LOCATION;VALUE=URI;X-ADDRESS=2040 North Milwaukee Avenue
 \, Chicago\, IL\, United States;X-APPLE-RADIUS=100;X-TITLE=The Lincoln Lod
 ge:geo:41.918237,-87.690271
END:VEVENT
BEGIN:VTIMEZONE
TZID:America/Detroit
X-LIC-LOCATION:America/Detroit
BEGIN:DAYLIGHT
DTSTART:20250309T030000
TZOFFSETFROM:-0500
TZOFFSETTO:-0400
TZNAME:EDT
END:DAYLIGHT
END:VTIMEZONE
END:VCALENDAR