BEGIN:VCALENDAR
VERSION:2.0
PRODID:-//wp-events-plugin.com//7.2.3.1//EN
TZID:America/Detroit
X-WR-TIMEZONE:America/Detroit
BEGIN:VEVENT
UID:35308@arabamerica.com
DTSTART;TZID=America/Detroit:20251116T140000
DTEND;TZID=America/Detroit:20251116T160000
DTSTAMP:20251028T004200Z
URL:https://www.arabamerica.com/events/layers-of-flavor-a-lebanese-kibbee-
 class/
SUMMARY:Layers of Flavor: A Lebanese Kibbee Class
DESCRIPTION:LANSING\, MI\n\n\n\nCome join us for this special class in Leba
 nese cooking! This dish is taught by our guest instructor Lauren Bruce!\n\
 nLauren's Intro:\n\nI love teaching people how to make Kibbee - a traditio
 nal Lebanese dish made with minced beef and/or lamb\, bulgur\, warm spices
 \, and pine nuts.\n\nYou can find Kibbee here and there around town\, but 
 my family’s version has a magic of its own. Over the years\, I’ve lost
  count of how many people have told me it’s the best they’ve ever had 
 outside their own homes - better than any restaurant around.\n\nAs the onl
 y girl born into my family\, I was learning the art of Lebanese cooking be
 fore I could even walk or talk. This recipe has been passed down for gener
 ations\, and every time I make it\, I feel connected to the women who came
  before me. Teaching it feels like carrying that tradition forward - bring
 ing people together through food\, stories\, and a whole lot of love. Beca
 use that’s the Lebanese way.\n\nOur Mission: Let our cooking classes ins
 pire you. Work with our chef/instructor to learn how to prepare delicious 
 recipes\, hone essential techniques\, and put some "heart" back into cooki
 ng. All levels of experience welcome! We offer private classes\, private p
 arties\, and a bounty of niche gourmet food and beverage products! Contact
  regina.bradlyshg@gmail.com for all private parties/class inquiries.\n\nNO
 TICE about cooking classes:\n\n 	Classes are 2 to 2 1/2 hours\, unless oth
 erwise noted above.\n 	You will work with other students.\n 	Hands-on clas
 ses are limited to 7 to 10 students.\n 	You will sit or stand\, cooking an
 d working for most of the class.\n 	Please wear comfortable\, closed-toe s
 hoes and have long hair tied back.\n 	We do not offer refunds for classes 
 within one week of the scheduled date. However\, you are welcome to transf
 er your spot to a friend or family member if you are unable to attend.\n 	
 Students receive a coupon good for the day of the class for 10% off in-sto
 re purchases on all food\, beverage\, kitchen\, and table top products.\n 
 	All recipes are developed using common cooking and baking ingredients tha
 t may or may not be specified in the menu titles\, including various fruit
 s and vegetables\, nuts\, meats\, spices\, wheat flours\, etc.\n\nIf you h
 ave a food allergy\, please check with us before registering for a class. 
 Adjustments to recipes cannot be made.
ATTACH;FMTTYPE=image/jpeg:https://www.arabamerica.com/wp-content/uploads/2
 025/10/https-cdn.evbuc_.com-images-1150766003-1316682990953-1-original.202
 51011-165801.jpeg
LOCATION:Bradly's HG\, 319 East César E. Chávez Avenue  \, Lansing\, MI\,
  48906\, United States
GEO:42.747587;-84.548579
X-APPLE-STRUCTURED-LOCATION;VALUE=URI;X-ADDRESS=319 East César E. Chávez 
 Avenue  \, Lansing\, MI\, 48906\, United States;X-APPLE-RADIUS=100;X-TITLE
 =Bradly's HG:geo:42.747587,-84.548579
END:VEVENT
BEGIN:VTIMEZONE
TZID:America/Detroit
X-LIC-LOCATION:America/Detroit
BEGIN:STANDARD
DTSTART:20251102T010000
TZOFFSETFROM:-0400
TZOFFSETTO:-0500
TZNAME:EST
END:STANDARD
END:VTIMEZONE
END:VCALENDAR