BEGIN:VCALENDAR
VERSION:2.0
PRODID:-//wp-events-plugin.com//7.2.3.1//EN
TZID:America/Detroit
X-WR-TIMEZONE:America/Detroit
BEGIN:VEVENT
UID:34408@arabamerica.com
DTSTART;TZID=America/Detroit:20250517T160000
DTEND;TZID=America/Detroit:20250517T220000
DTSTAMP:20250514T020456Z
URL:https://www.arabamerica.com/events/layla-bil-mazraa/
SUMMARY:Layla bil Mazra'a
DESCRIPTION:WATERFORD\, VA\n\nKick off summer at Strawberry Vale Farm!\nJoi
 n us for Layla bil Mazra’a\, a magical evening of food\, music\, and com
 munity on the farm!\n\nEnjoy halal BBQ\, live music\, DJ vibes\, henna\, m
 oon bounce\, art\, animals\, raffle prizes and more\, all under the stars.
 \n\nSaturday\, May 17 | 4–10 PM\n14872 Loyalty Rd\, Waterford\, VA\nTick
 ets: $25 Early Bird | $35 General (BBQ included!)\nKids under 5 get in fre
 e!\n\nAll proceeds support an Arab woman-owned animal sanctuary farm.\nLet
 ’s eat\, dance\, and make memories in the country air!\n\nProudly sponso
 red by Arab America.\nTickets in bio!
ATTACH;FMTTYPE=image/jpeg:https://www.arabamerica.com/wp-content/uploads/2
 025/05/Screen-Shot-2025-05-13-at-22.04.27.png
LOCATION:14872 Loyalty Rd\, 14872 Loyalty Rd\, Waterford\, VA\, United Stat
 es
GEO:39.202546;-77.589792
X-APPLE-STRUCTURED-LOCATION;VALUE=URI;X-ADDRESS=14872 Loyalty Rd\, Waterfor
 d\, VA\, United States;X-APPLE-RADIUS=100;X-TITLE=14872 Loyalty Rd:geo:39.
 202546,-77.589792
END:VEVENT
BEGIN:VTIMEZONE
TZID:America/Detroit
X-LIC-LOCATION:America/Detroit
BEGIN:DAYLIGHT
DTSTART:20250309T030000
TZOFFSETFROM:-0500
TZOFFSETTO:-0400
TZNAME:EDT
END:DAYLIGHT
END:VTIMEZONE
END:VCALENDAR