BEGIN:VCALENDAR
VERSION:2.0
PRODID:-//wp-events-plugin.com//7.2.3.1//EN
TZID:America/Detroit
X-WR-TIMEZONE:America/Detroit
BEGIN:VEVENT
UID:35660@arabamerica.com
DTSTART;TZID=America/Detroit:20260131T150000
DTEND;TZID=America/Detroit:20260131T210000
DTSTAMP:20260106T170231Z
URL:https://www.arabamerica.com/events/layla-fil-kasbah-north-african-fall
 -festival/
SUMMARY:Layla Fil Kasbah - North African Fall Festival
DESCRIPTION:MCLEAN\, VA\n\nCome enjoy our North African Fall Festival\, fil
 led with music\, food\, and culture from the region. We can’t wait to se
 e you!\n\n\n\n\n&#x1f319\; Layla fil Casbah – A North African Fall Fest
 ival\n\nDate: January 31\, 2026\n\nLocation: 1355 Balls Hill Rd Mclean\,
  Virginia 22101\n\nFor the first time ever in the DMV\, experience Layla
  fil Kasbah\, a vibrant celebration of North African culture! Immerse you
 rself in the sights\, sounds\, and flavors of the Maghreb as we showcase t
 raditional music\, clothing\, cuisine\, and art. From colorful bazaars to 
 lively performances\, there’s something for everyone to enjoy. Don’t m
 iss this unique opportunity to experience the magic of North Africa right 
 in your own backyard!\n\n&#x1f3b6\; Live Performance by Ahmed Belgrine &a
 mp\; Izuran Band\nGet ready for an unforgettable night with DJ Humble and 
 the Izuran band. Their dynamic blend of Raï\, Chaabi\, Tounsi\, Regga
 da\, and more will transport you straight to the heart of North Africa.\n\
 n&#x2728\; Program Highlights:\n\n 	Live music and dance floor\n 	Authent
 ic North African cuisine &amp\; sweets\n 	Cultural exhibits and family-fri
 endly activities\n 	Traditional attire encouraged!\n\nJoin us as we make h
 istory with the first-ever North African Festival in the DMV\, a magical
  Layla fil Kasbah celebrating traditional music\, and rich heritage.\n\n
 REGISTER HERE\n\n\n
ATTACH;FMTTYPE=image/jpeg:https://www.arabamerica.com/wp-content/uploads/2
 026/01/Screenshot-2026-01-06-at-11.59.06-AM.png
LOCATION:1355 Balls Hill Rd\, 1355 Balls Hill Rd\, Mclean\, VA\, 22101\, Un
 ited States
GEO:38.935256;-77.196475
X-APPLE-STRUCTURED-LOCATION;VALUE=URI;X-ADDRESS=1355 Balls Hill Rd\, Mclean
 \, VA\, 22101\, United States;X-APPLE-RADIUS=100;X-TITLE=1355 Balls Hill R
 d:geo:38.935256,-77.196475
END:VEVENT
BEGIN:VTIMEZONE
TZID:America/Detroit
X-LIC-LOCATION:America/Detroit
BEGIN:STANDARD
DTSTART:20251102T010000
TZOFFSETFROM:-0400
TZOFFSETTO:-0500
TZNAME:EST
END:STANDARD
END:VTIMEZONE
END:VCALENDAR