BEGIN:VCALENDAR
VERSION:2.0
PRODID:-//wp-events-plugin.com//7.2.3.1//EN
TZID:America/Detroit
X-WR-TIMEZONE:America/Detroit
BEGIN:VEVENT
UID:35337@arabamerica.com
DTSTART;TZID=America/New_York:20251115T190000
DTEND;TZID=America/New_York:20251115T230000
DTSTAMP:20251029T055634Z
URL:https://www.arabamerica.com/events/layla-from-olden-times-%d9%84%d9%8a
 %d9%84%d8%a9-%d9%85%d9%86-%d9%82%d8%af%d9%8a%d9%85-%d8%a7%d9%84%d8%b2%d9%8
 5%d8%a7%d9%86/
SUMMARY:Layla From Olden Times - ليلة من قديم الزمان
DESCRIPTION:\nTYSONS\, VA\nLayla From the Olden Times is a cultural evening
  celebrating the timeless beauty of traditional music from the broader Mes
 opotamian region\n\n\n\n\nthis night is an enchanting cultural evening pre
 sented by Golden Voyage Events\, celebrating the timeless beauty of tradit
 ional Iraqi music and heritage.\n\nThe event features a three-course dinne
 r that includes authentic Middle Eastern dishes\, served with soda and tra
 ditional Turkish black tea. ( If you are vegetarian\, please contact us by
  email or through our Instagram page so we can accommodate your meal.) A c
 ash bar will also be available for guests who wish to enjoy additional bev
 erages.\n\nThe highlight of the evening is a live performance by a young t
 raditional band from Kirkuk\, Iraq\, known for their soulful inspiration a
 nd deep passion for Maqam music. Enjoy an inspired musical journey in Arab
 ic\, Turkmani\, and Kurdish — celebrating the rich sounds and soul of Ir
 aq.\n\nThrough their music\, ambiance\, and flavors\, Layla from The Olden
  Times invites guests to step back in time and experience the rich artisti
 c spirit of Mesopotamia\, celebrating unity\, culture\, and the enduring c
 harm of the old times.\n\nWe’re proud to share that 15% of every ticket 
 sold will go toward supporting the Iraqi Children’s Foundation\, helping
  make a difference while celebrating culture and music!\n\nليلة من 
 قديم الزمان\n\nليلة من قديم الزمان هي أمس
 ية ثقافية ساحرة تنظمها Golden Voyage Events للاحت
 فاء بجمال الموسيقى والتراث العراقي الأص
 يل.\n\nتتضمن الأمسية عشاءً من ثلاث وجبات ي
 قدم فيه أشهى الأطباق الشرقية مع مشروب ال
 صودا والشاي التركي الأسود، كما تتوفر خدم
 ة البار النقدي للراغبين بتجربة مشروبات إ
 ضافية.\n\nيُحيي الحفل فرقة موسيقية شابة من
  كركوك – العراق، تميّزت بإلهامها الشباب
 ي وحبها العميق لموسيقى المقام العراقي ال
 تي تأخذكم برحلة موسيقية ملهمة باللغة الع
 ربية والتركمانية والكردية، تحتفي بأصوات
  وروح العراق العريقة و تعبّر عن روح العرا
 ق من شماله إلى جنوبه.\n\nمن خلال الموسيقى و
 الأجواء والنكهات، تدعوكم ليلة من قديم ا
 لزمان إلى رحلة عبر الزمن لاستعادة عبق ال
 ماضي وسحر بلاد الرافدين في أمسية تمزج بي
 ن الأصالة والروح الفنية الخالدة.\n\n\n
LOCATION:East West Cafe\, 1992 Chain Bridge Road\, Tysons \, Virginia \, 22
 102\, United States
GEO:38.920001;-77.229566
X-APPLE-STRUCTURED-LOCATION;VALUE=URI;X-ADDRESS=1992 Chain Bridge Road\, Ty
 sons \, Virginia \, 22102\, United States;X-APPLE-RADIUS=100;X-TITLE=East 
 West Cafe:geo:38.920001,-77.229566
END:VEVENT
BEGIN:VTIMEZONE
TZID:America/New_York
X-LIC-LOCATION:America/New_York
BEGIN:STANDARD
DTSTART:20251102T010000
TZOFFSETFROM:-0400
TZOFFSETTO:-0500
TZNAME:EST
END:STANDARD
END:VTIMEZONE
END:VCALENDAR