BEGIN:VCALENDAR
VERSION:2.0
PRODID:-//wp-events-plugin.com//7.2.3.1//EN
TZID:America/Detroit
X-WR-TIMEZONE:America/Detroit
BEGIN:VEVENT
UID:34904@arabamerica.com
DTSTART;TZID=America/New_York:20250920T160000
DTEND;TZID=America/New_York:20250921T040000
DTSTAMP:20250805T193425Z
URL:https://www.arabamerica.com/events/laylit-7-year-anniversary/
SUMMARY:Laylit 7-year Anniversary
DESCRIPTION:In order for you to join us\, we require a physical\, valid\, s
 cannable US Government issued ID or foreign passport for admission (expire
 d IDs will NOT be accepted)! If you are traveling\, please be prepared to 
 show a physical passport for entry (Photocopies and Photographs of IDs are
  NOT accepted). We recommend that all customers read Elsewhere's ID Policy
  in the FAQ section on our website before arriving at the venue.\n\n&nbsp\
 ;\n\n 	ROOFTOP - To be announced\n 	HALL - To be announced\n 	ZONE ONE - T
 o be announced\n 	LOFT - To be announced\n\n&nbsp\;\n\nNo re-entry. All ex
 its are final.
ATTACH;FMTTYPE=image/jpeg:https://www.arabamerica.com/wp-content/uploads/2
 025/08/Screenshot-2025-08-05-at-2.28.22-PM.png
END:VEVENT
BEGIN:VTIMEZONE
TZID:America/New_York
X-LIC-LOCATION:America/New_York
BEGIN:DAYLIGHT
DTSTART:20250309T030000
TZOFFSETFROM:-0500
TZOFFSETTO:-0400
TZNAME:EDT
END:DAYLIGHT
END:VTIMEZONE
END:VCALENDAR