BEGIN:VCALENDAR
VERSION:2.0
PRODID:-//wp-events-plugin.com//7.2.3.1//EN
TZID:America/Detroit
X-WR-TIMEZONE:America/Detroit
BEGIN:VEVENT
UID:35197@arabamerica.com
DTSTART;TZID=America/Detroit:20251011T123000
DTEND;TZID=America/Detroit:20251011T123000
DTSTAMP:20251006T205908Z
URL:https://www.arabamerica.com/events/learn-arabic-3/
SUMMARY:Learn Arabic
DESCRIPTION:HACKENSACK\, NJ\n\n\nFIRST STEPS (Arabic)\nComplete begginer Ar
 abic\, you will learn – right from the start – some useful vocabulary\
 , expressions\, and tips about pronunciation\, all before you learn any gr
 ammar rules.\n\nBy the end of this unit\, you will take the first ten step
 s needed to get you speaking Arabic right away.\nTEN STEPS\n\n 	Mā ismuka
 ? / Mā ismuki? – What is your name?\n 	Min ayna anta? / anti? – Where
  are you from?\n 	As-salāmu ʿalaykum. Kayfa ḥāluka/ḥāluki al-yawm?
  – Hello. How are you today?\n 	Hal anta/anti bikhayr? – Are you okay?
 \n 	Mā hādhā? – What is this?\n 	ʿĀʾilatī – My family\n 	Hal tu
 ḥibbu/tuḥibbī al-fīl al-wardī? – Do you like the pink elephant?\n
  	Wāḥid\, ithnān\, thalātha – One\, two\, three\n 	Ayyu yawm huwa a
 l-yawm? / Kayfa aṭ-ṭaqs al-yawm? – What day is it today? / What is t
 he weather like today?\n 	Kam as-sāʿah? – What time is it?\n
ATTACH;FMTTYPE=image/jpeg:https://www.arabamerica.com/wp-content/uploads/2
 025/10/https-cdn.evbuc_.com-images-1135418253-1970408660753-1-original.202
 50925-164422.jpeg
LOCATION:1 University Plaza Dr suite 106\, 1 University Plaza Drive #suite 
 106 \, Hackensack\, NJ\, 07601\, United States
GEO:40.898683;-74.034878
X-APPLE-STRUCTURED-LOCATION;VALUE=URI;X-ADDRESS=1 University Plaza Drive #s
 uite 106 \, Hackensack\, NJ\, 07601\, United States;X-APPLE-RADIUS=100;X-T
 ITLE=1 University Plaza Dr suite 106:geo:40.898683,-74.034878
END:VEVENT
BEGIN:VTIMEZONE
TZID:America/Detroit
X-LIC-LOCATION:America/Detroit
BEGIN:DAYLIGHT
DTSTART:20250309T030000
TZOFFSETFROM:-0500
TZOFFSETTO:-0400
TZNAME:EDT
END:DAYLIGHT
END:VTIMEZONE
END:VCALENDAR