BEGIN:VCALENDAR
VERSION:2.0
PRODID:-//wp-events-plugin.com//7.2.3.1//EN
TZID:America/Detroit
X-WR-TIMEZONE:America/Detroit
BEGIN:VEVENT
UID:35029@arabamerica.com
DTSTART;TZID=America/Chicago:20250905T183000
DTEND;TZID=America/Chicago:20250905T203000
DTSTAMP:20250821T180417Z
URL:https://www.arabamerica.com/events/learn-arabic-calligraphy/
SUMMARY:Learn Arabic Calligraphy
DESCRIPTION:Learn Arabic calligraphy with world-renowned calligrapher\, Sab
 an Karipek. He has certifications in different Arabic scripts with 35+ yea
 rs of experience.\n\n&nbsp\;\n\nTickets are $25\, which covers materials. 
 Open to all.
ATTACH;FMTTYPE=image/jpeg:https://www.arabamerica.com/wp-content/uploads/2
 025/08/Screenshot-2025-08-21-at-1.02.17-PM.png
LOCATION:Downtown Islamic Center\, 231 South State Street\, Chicago\, IL\, 
 60604\, United States
GEO:41.878692;-87.62734929999999
X-APPLE-STRUCTURED-LOCATION;VALUE=URI;X-ADDRESS=231 South State Street\, Ch
 icago\, IL\, 60604\, United States;X-APPLE-RADIUS=100;X-TITLE=Downtown Isl
 amic Center:geo:41.878692,-87.62734929999999
END:VEVENT
BEGIN:VTIMEZONE
TZID:America/Chicago
X-LIC-LOCATION:America/Chicago
BEGIN:DAYLIGHT
DTSTART:20250309T030000
TZOFFSETFROM:-0600
TZOFFSETTO:-0500
TZNAME:CDT
END:DAYLIGHT
END:VTIMEZONE
END:VCALENDAR