BEGIN:VCALENDAR
VERSION:2.0
PRODID:-//wp-events-plugin.com//7.2.3.1//EN
TZID:America/Detroit
X-WR-TIMEZONE:America/Detroit
BEGIN:VEVENT
UID:35589@arabamerica.com
DTSTART;TZID=America/Detroit:20260110T103000
DTEND;TZID=America/Detroit:20260110T103000
DTSTAMP:20251216T194139Z
URL:https://www.arabamerica.com/events/learn-tunisian-crochet-at-the-linco
 ln-branch-2/
SUMMARY:LEARN TUNISIAN CROCHET AT THE LINCOLN BRANCH
DESCRIPTION:DETROIT\, MI\n\n\n\nLEARN HOW TO TUNISIAN CROCHET &amp\; MAKE A
  SCARF WITH US. Beginner's receive 1:1 instruction.\n\n\n\n\n 	LEARN HOW T
 O TUNISIAN CROCHET \n 	NOT AS COMPLEX AS IT SOUNDS\n 	BRING YOUR OWN YARN 
 (SIZE 4\, AKA “MEDIUM\,” AKA “WORSTED”)\n 	TUNISIAN CROCHET HOOKS 
 WILL BE PROVIDED\n 	Special Date-Second Saturday\n\n\n
ATTACH;FMTTYPE=image/jpeg:https://www.arabamerica.com/wp-content/uploads/2
 025/12/https-cdn.evbuc_.com-images-1171066815-211640642192-1-original.2025
 1116-051606.jpeg
LOCATION:Lincoln | Detroit Public Library\, 1221 Seven Mile East \, Detroit
 \, MI\, 48203\, United States
GEO:42.432824;-83.090946
X-APPLE-STRUCTURED-LOCATION;VALUE=URI;X-ADDRESS=1221 Seven Mile East \, Det
 roit\, MI\, 48203\, United States;X-APPLE-RADIUS=100;X-TITLE=Lincoln | Det
 roit Public Library:geo:42.432824,-83.090946
END:VEVENT
BEGIN:VTIMEZONE
TZID:America/Detroit
X-LIC-LOCATION:America/Detroit
BEGIN:STANDARD
DTSTART:20251102T010000
TZOFFSETFROM:-0400
TZOFFSETTO:-0500
TZNAME:EST
END:STANDARD
END:VTIMEZONE
END:VCALENDAR