BEGIN:VCALENDAR
VERSION:2.0
PRODID:-//wp-events-plugin.com//7.2.3.1//EN
TZID:America/Detroit
X-WR-TIMEZONE:America/Detroit
BEGIN:VEVENT
UID:30740@arabamerica.com
DTSTART;TZID=America/Detroit:20230422T100000
DTEND;TZID=America/Detroit:20230422T140000
DTSTAMP:20230323T031753Z
URL:https://www.arabamerica.com/events/learn-tunisian-crochet/
SUMMARY:Learn Tunisian Crochet
DESCRIPTION:APPLETON\, WI\n If you’ve been wanting to try Tunisian Croch
 et now is your chance! Dive into this fun new craft with this small\, gift
 able project!\n\nTools and Supplies:\nYarn - any light worsted weight yarn
 \, approx. 90 yds in 2 colors. Lighter\, solid colors and smooth yarn help
  the texture shine and make seeing your stitches easier. Check with Sara f
 or yarn options available at Casting On.\nHook – US G (4.0mm)\nNotions 
 – Large beads (optional)\, Beading needle (optional)\, Scissors\, Tapest
 ry Needle\, Tape measure\nAll tools and supplies are available at Casting 
 On for an additional cost.\n\nPattern: Beginner Tunisian Necklace by Sarah
  Korth can be purchased and downloaded from Ravelry or purchased at Castin
 g On.\n\nWhat you need to know: Some crochet experience is necessary. You 
 should feel comfortable working a chain\, making slip stitches\, and under
 stand how to yarn over. No Tunisian crochet experience is necessary!\nWhat
  you’ll learn: We’ll start from the very beginning of Tunisian crochet
  techniques. We’ll learn Tunisian simple stitch\, 2 color Tunisian simpl
 e stitch\, and Tunisian full stitch.\n&nbsp\;
ATTACH;FMTTYPE=image/jpeg:https://www.arabamerica.com/wp-content/uploads/2
 023/03/a45e9bbe9bcb94fc0f61671aab36b414f92ec8dcb070d598bf9dddd21dae034b-ri
 mg-w960-h960-gmir.jpg
CATEGORIES:Community,culture,Music/Folk/World
LOCATION:305 E College Ave\, 305 E College Ave\, Appleton\, WI\, United Sta
 tes
GEO:44.261508;-88.402381
X-APPLE-STRUCTURED-LOCATION;VALUE=URI;X-ADDRESS=305 E College Ave\, Appleto
 n\, WI\, United States;X-APPLE-RADIUS=100;X-TITLE=305 E College Ave:geo:44
 .261508,-88.402381
END:VEVENT
BEGIN:VTIMEZONE
TZID:America/Detroit
X-LIC-LOCATION:America/Detroit
BEGIN:DAYLIGHT
DTSTART:20230312T030000
TZOFFSETFROM:-0500
TZOFFSETTO:-0400
TZNAME:EDT
END:DAYLIGHT
END:VTIMEZONE
END:VCALENDAR