BEGIN:VCALENDAR
VERSION:2.0
PRODID:-//wp-events-plugin.com//7.2.3.1//EN
TZID:America/Detroit
X-WR-TIMEZONE:America/Detroit
BEGIN:VEVENT
UID:31695@arabamerica.com
DTSTART;TZID=America/Detroit:20231008T130000
DTEND;TZID=America/Detroit:20231008T200000
DTSTAMP:20230919T022506Z
URL:https://www.arabamerica.com/events/lebanese-american-festival/
SUMMARY:Lebanese American Festival
DESCRIPTION:The 14th annual Lebanese American Festival takes place\, featur
 ing music\, food\, and games in celebration of the Lebanese heritage. (Not
 e multiple dates and times.)
ATTACH;FMTTYPE=image/jpeg:https://www.arabamerica.com/wp-content/uploads/2
 023/09/lebanese.jpeg
CATEGORIES:#arabic,Arab American,Community,culture
LOCATION:St. Sharbel Maronite Church\, 10325 Rancho Destino Road\, Las Vega
 s\, NV\, 89183\, United States
GEO:36.002548;-115.166637
X-APPLE-STRUCTURED-LOCATION;VALUE=URI;X-ADDRESS=10325 Rancho Destino Road\,
  Las Vegas\, NV\, 89183\, United States;X-APPLE-RADIUS=100;X-TITLE=St. Sha
 rbel Maronite Church:geo:36.002548,-115.166637
END:VEVENT
BEGIN:VTIMEZONE
TZID:America/Detroit
X-LIC-LOCATION:America/Detroit
BEGIN:DAYLIGHT
DTSTART:20230312T030000
TZOFFSETFROM:-0500
TZOFFSETTO:-0400
TZNAME:EDT
END:DAYLIGHT
END:VTIMEZONE
END:VCALENDAR