BEGIN:VCALENDAR
VERSION:2.0
PRODID:-//wp-events-plugin.com//7.2.3.1//EN
TZID:America/Detroit
X-WR-TIMEZONE:America/Detroit
BEGIN:VEVENT
UID:31413@arabamerica.com
DTSTART;TZID=America/Detroit:20230812T160000
DTEND;TZID=America/Detroit:20230813T180000
DTSTAMP:20230718T143024Z
URL:https://www.arabamerica.com/events/lebanese-american-food-festival/
SUMMARY:Lebanese-American Food Festival
DESCRIPTION:"Delicious homemade Lebanese Foods: Kibbee\, Stuffed Grape Leav
 es\, Spinach &amp\; Meat Pies\, Shish Kebobs\, tabouli\, garlic tuom\, bre
 ad\, etc… Pastries include baklawa\, shredded wheat with cheese/nuts\, f
 arina\, plus cakes\, cupcakes &amp\; cookies. Local picnic favorites are s
 ausage &amp\; peppers\, potato pancakes\, pizza frita\, burgers &amp\; hot
 dogs with or without chili sauce\, canned beer\, etc. (no clams this year)
  Priced menu for above will be posted prior to event for viewing- There is
  no pre-order or curbside pickup. Walk through the line to get your food c
 hoices &amp\; pay at the end. Indicate whether it is take out or eat in\, 
 so it can be packaged. Tents over food prep and some tables\, outdoor seat
 ing &amp\; tent over raffle tables."
ATTACH;FMTTYPE=image/jpeg:https://www.arabamerica.com/wp-content/uploads/2
 023/07/Food-Festival.jpeg
CATEGORIES:#arabic,Arab
 American,Community,culture,Discussion,Food,lebanese
LOCATION:St. Joseph Melkite Greek-Catholic Church\, 130 St. Frances Cabrini
  Ave.\, Scranton\, PA\, 18504\, United States
GEO:41.412316;-75.677417
X-APPLE-STRUCTURED-LOCATION;VALUE=URI;X-ADDRESS=130 St. Frances Cabrini Ave
 .\, Scranton\, PA\, 18504\, United States;X-APPLE-RADIUS=100;X-TITLE=St. J
 oseph Melkite Greek-Catholic Church:geo:41.412316,-75.677417
END:VEVENT
BEGIN:VTIMEZONE
TZID:America/Detroit
X-LIC-LOCATION:America/Detroit
BEGIN:DAYLIGHT
DTSTART:20230312T030000
TZOFFSETFROM:-0500
TZOFFSETTO:-0400
TZNAME:EDT
END:DAYLIGHT
END:VTIMEZONE
END:VCALENDAR