BEGIN:VCALENDAR
VERSION:2.0
PRODID:-//wp-events-plugin.com//7.2.3.1//EN
TZID:America/Detroit
X-WR-TIMEZONE:America/Detroit
BEGIN:VEVENT
UID:35213@arabamerica.com
DTSTART;TZID=America/New_York:20251008T190000
DTEND;TZID=America/New_York:20251008T201500
DTSTAMP:20251008T173150Z
URL:https://www.arabamerica.com/events/lebanese-baking-an-evening-with-mau
 reen-abood-and-alicia-wang/
SUMMARY:LEBANESE BAKING: An Evening with Maureen Abood and Alicia Wang
DESCRIPTION:Tickets to this event can be found here: https://www.eventbrite
 .com/e/lebanese-baking-an-evening-with-maureen-abood-and-alicia-wang-ticke
 ts-1669713691599?aff=ebdssbdestsearch
ATTACH;FMTTYPE=image/jpeg:https://www.arabamerica.com/wp-content/uploads/2
 025/10/https___cdn.evbuc_.com_images_1115831193_532343647015_1_original.jp
 g
CATEGORIES:Book Talk,Bookstore,lebanese
LOCATION:Bold Fork Books\, 3064 Mount Pleasant Street Northwest\, Washingto
 n\, DC\, 20009\, United States
GEO:38.928461;-77.0375
X-APPLE-STRUCTURED-LOCATION;VALUE=URI;X-ADDRESS=3064 Mount Pleasant Street 
 Northwest\, Washington\, DC\, 20009\, United States;X-APPLE-RADIUS=100;X-T
 ITLE=Bold Fork Books:geo:38.928461,-77.0375
END:VEVENT
BEGIN:VTIMEZONE
TZID:America/New_York
X-LIC-LOCATION:America/New_York
BEGIN:DAYLIGHT
DTSTART:20250309T030000
TZOFFSETFROM:-0500
TZOFFSETTO:-0400
TZNAME:EDT
END:DAYLIGHT
END:VTIMEZONE
END:VCALENDAR