BEGIN:VCALENDAR
VERSION:2.0
PRODID:-//wp-events-plugin.com//7.2.3.1//EN
TZID:America/Detroit
X-WR-TIMEZONE:America/Detroit
BEGIN:VEVENT
UID:31410@arabamerica.com
DTSTART;TZID=America/Detroit:20230726T173000
DTEND;TZID=America/Detroit:20230726T203000
DTSTAMP:20230718T141342Z
URL:https://www.arabamerica.com/events/lebanese-dinner-2/
SUMMARY:Lebanese Dinner
DESCRIPTION:"Lebanese Dinner\n?? City Club presents Lebanese Night. ?? Join
  us on Wednesday\, July 26th\, as we celebrate Lebanese culture and gastro
 nomy. The buffet opens at 5:30pm. Reserve your table now to ensure your sp
 ot at this popular event.\n\nOnline Reservations: https://qrco.de/Leb23\n\
 nThe cost is $44.95 per adult and $18.95 per child 12 &amp\; under.\nRSVP 
 337-216-6507\n48-hour cancellation policy in effect.\n\nYou may also like 
 the following events from City Club at River Ranch:\n\nNext month\, 19th A
 ugust\, 07:00 pm\, Retro Night - 70s/80s Party in Lafayette"
ATTACH;FMTTYPE=image/jpeg:https://www.arabamerica.com/wp-content/uploads/2
 023/07/Lebanese-Family-Style-Dinner.jpeg
CATEGORIES:#arabic,Arab American,Community,culture,Food,lebanese
LOCATION:City Club at River Ranch\, 1100 Camellia Blvd\, Lafayette\, LA\, U
 nited States
GEO:30.173531;-92.041955
X-APPLE-STRUCTURED-LOCATION;VALUE=URI;X-ADDRESS=1100 Camellia Blvd\, Lafaye
 tte\, LA\, United States;X-APPLE-RADIUS=100;X-TITLE=City Club at River Ran
 ch:geo:30.173531,-92.041955
END:VEVENT
BEGIN:VTIMEZONE
TZID:America/Detroit
X-LIC-LOCATION:America/Detroit
BEGIN:DAYLIGHT
DTSTART:20230312T030000
TZOFFSETFROM:-0500
TZOFFSETTO:-0400
TZNAME:EDT
END:DAYLIGHT
END:VTIMEZONE
END:VCALENDAR