BEGIN:VCALENDAR
VERSION:2.0
PRODID:-//wp-events-plugin.com//7.2.3.1//EN
TZID:America/Detroit
X-WR-TIMEZONE:America/Detroit
BEGIN:VEVENT
UID:31412@arabamerica.com
DTSTART;TZID=America/Detroit:20230728T180000
DTEND;TZID=America/Detroit:20230728T213000
DTSTAMP:20230718T142331Z
URL:https://www.arabamerica.com/events/lebanese-family-style-dinner-presid
 ents-panel-2/
SUMMARY:Lebanese Family Style Dinner & President's Panel
DESCRIPTION:"Jeremy Tate will start our night off with some introductions. 
 Then we will enjoy a delicious meal.\nOur menu for the night includes a va
 riety of traditional Lebanese dishes\, served family-style to encourage sh
 aring and bonding over food. You'll get to taste our famous hummus\, tabbo
 uleh\, kibbeh\, and more!\nWe will complete our meal with dessert and coff
 ee before we head over to the FSK Auditorium for our President's Panel. Th
 is is a highlight of our Higher Education Summit and we can't wait to shar
 e who we will be hearing from this year."
ATTACH;FMTTYPE=image/jpeg:https://www.arabamerica.com/wp-content/uploads/2
 023/07/Lebanese-Family-Style-Dinner-1.jpeg
CATEGORIES:culture,Discussion,Family Event,Food,lebanese
LOCATION:St. John's College\, 48 St. John's Street\, Annapolis\, MD\, 21401
 \, United States
GEO:38.981963;-76.491536
X-APPLE-STRUCTURED-LOCATION;VALUE=URI;X-ADDRESS=48 St. John's Street\, Anna
 polis\, MD\, 21401\, United States;X-APPLE-RADIUS=100;X-TITLE=St. John's C
 ollege:geo:38.981963,-76.491536
END:VEVENT
BEGIN:VTIMEZONE
TZID:America/Detroit
X-LIC-LOCATION:America/Detroit
BEGIN:DAYLIGHT
DTSTART:20230312T030000
TZOFFSETFROM:-0500
TZOFFSETTO:-0400
TZNAME:EDT
END:DAYLIGHT
END:VTIMEZONE
END:VCALENDAR