BEGIN:VCALENDAR
VERSION:2.0
PRODID:-//wp-events-plugin.com//7.2.3.1//EN
TZID:America/Detroit
X-WR-TIMEZONE:America/Detroit
BEGIN:VEVENT
UID:34820@arabamerica.com
DTSTART;TZID=America/Detroit:20251003T110000
DTEND;TZID=America/Detroit:20251005T150000
DTSTAMP:20250729T022747Z
URL:https://www.arabamerica.com/events/lebanese-food-festival-4/
SUMMARY:Lebanese Food Festival
DESCRIPTION:LEWISVILLE\, TX\n\n&nbsp\;\n\nJoin us for a mouthwatering Leban
 ese Food Festival filled with delicious dishes\, live music\, and a vibran
 t atmosphere!\n\nWelcome to the Lebanese Food Festival!\n\nCome join us at
  Our Lady of Lebanon Maronite Catholic Church for a delicious celebration 
 of Lebanese cuisine. Indulge in traditional dishes like falafel\, shawarma
 \, hummus\, and baklava. Savor the flavors of Lebanon while enjoying live 
 music and cultural performances. Bring your friends and family for a day f
 illed with food\, fun\, and community. Don't miss out on this tasty event!
 \n\nGet Tickets Here
ATTACH;FMTTYPE=image/jpeg:https://www.arabamerica.com/wp-content/uploads/2
 025/07/Screenshot-2025-07-28-at-10.21.52-PM.png
CATEGORIES:Arab American,Community,culture
LOCATION:Our Lady of Lebanon Maronite Catholic Church\, 719 University Plac
 e\, Lewisville\, Texas\, 75067\, United States
GEO:33.039425;-97.008948
X-APPLE-STRUCTURED-LOCATION;VALUE=URI;X-ADDRESS=719 University Place\, Lewi
 sville\, Texas\, 75067\, United States;X-APPLE-RADIUS=100;X-TITLE=Our Lady
  of Lebanon Maronite Catholic Church:geo:33.039425,-97.008948
END:VEVENT
BEGIN:VTIMEZONE
TZID:America/Detroit
X-LIC-LOCATION:America/Detroit
BEGIN:DAYLIGHT
DTSTART:20250309T030000
TZOFFSETFROM:-0500
TZOFFSETTO:-0400
TZNAME:EDT
END:DAYLIGHT
END:VTIMEZONE
END:VCALENDAR