BEGIN:VCALENDAR
VERSION:2.0
PRODID:-//wp-events-plugin.com//7.2.3.1//EN
TZID:America/Detroit
X-WR-TIMEZONE:America/Detroit
BEGIN:VEVENT
UID:32913@arabamerica.com
DTSTART;TZID=America/Detroit:20240609T170000
DTEND;TZID=America/Detroit:20240609T200000
DTSTAMP:20240529T105736Z
URL:https://www.arabamerica.com/events/lebanese-healthcare-networking-even
 t-3/
SUMMARY:Lebanese Healthcare Networking Event
DESCRIPTION:ARLINGTON\, VA\n\nThe International Lebanese Medical Associatio
 n (ILMA) DMV invites you to an evening of networking and mingling on Sunda
 y\, June 9th! This event aims to bring the Lebanese community that serves 
 the healthcare industry together. ILMA- DMV's mission is to help medical s
 tudents in Lebanon.\n\nPlease RSVP and add it to your calendars!\n\nLookin
 g forward to seeing you soon\,\n\n 	Dr. Paul Tyan - President of Chapter\n
  	Dr. Nayef Chahin - Immediate Past President\n 	Dr. R ana Sharara - Vice 
 President\n 	D r. Khalil Diab - Secretary\n 	Dr. Eliane Abou Jaoude - Trea
 surer\n 	Dr. Nadine El Asmar - Recruitment &amp\; Social Event Officer\n 	
 Dr. Joseph Khoury - Exchange Officer\n 	Dr. Victor Yazbeck - Academic Offi
 cer\n 	Dr. Alexandra Eid - Exchange Officer\n 	William Azar - Fundraiser &
 amp\; Social Media Officer\n 	Nadia Samaha - Trainee Officer\n 	Dr. Walid 
 Chalhoub - Member at Large\n\n- I LMA DMV Board\n\nAbout ILMA: The Intern
 ational Lebanese Medical Association\, USA\, is a non-profit\, non-politic
 al\, and non-denominational organization. It was formed by medical profess
 ionals of Lebanese heritage living in the United States who share common i
 nterests in health\, education\, and research. To learn more\, visit: htt
 ps://ilmausa.org
ATTACH;FMTTYPE=image/jpeg:https://www.arabamerica.com/wp-content/uploads/2
 024/05/Screenshot-2024-05-29-035332.png
LOCATION:Wilson Hardware\, 2915 Wilson Boulevard\, Arlington\, VA\, 22201\,
  United States
X-APPLE-STRUCTURED-LOCATION;VALUE=URI;X-ADDRESS=2915 Wilson Boulevard\, Arl
 ington\, VA\, 22201\, United States;X-APPLE-RADIUS=100;X-TITLE=Wilson Hard
 ware:geo:0,0
END:VEVENT
BEGIN:VTIMEZONE
TZID:America/Detroit
X-LIC-LOCATION:America/Detroit
BEGIN:DAYLIGHT
DTSTART:20240310T030000
TZOFFSETFROM:-0500
TZOFFSETTO:-0400
TZNAME:EDT
END:DAYLIGHT
END:VTIMEZONE
END:VCALENDAR