BEGIN:VCALENDAR
VERSION:2.0
PRODID:-//wp-events-plugin.com//7.2.3.1//EN
TZID:America/Detroit
X-WR-TIMEZONE:America/Detroit
BEGIN:VEVENT
UID:32910@arabamerica.com
DTSTART;TZID=America/Detroit:20240531T180000
DTEND;TZID=America/Detroit:20240531T210000
DTSTAMP:20240529T101231Z
URL:https://www.arabamerica.com/events/lebanese-plant-based-feast-cooking-
 class-by-cozymeal-5/
SUMMARY:Lebanese Plant-Based Feast - Cooking Class by Cozymeal&#x2122\;
DESCRIPTION:NEW YORK\, NY\n\nPhenomenal food and incredible company await y
 ou at the chef's table! Join Cozymeal’s upcoming cooking class Join “L
 ebanese Plant-Based Feast” with Chef Jackie for an intimate 3-hour culin
 ary experience and 4-course meal.\n\n\n\n\nCozymeal offers a variety of cu
 linary experiences\, including cooking classes\, team building activities\
 , food tours and private chef services. We’ll give you a unique\, unforg
 ettable experience hosted by incredible chefs and guides in over 70 cities
  across the U.S. and Canada. Book a culinary experience with Cozymeal and 
 let theus take care of the rest.\n\nFor additional information and dates v
 isit Lebanese Plant-Based Feast\n\n\n\n\n\n
ATTACH;FMTTYPE=image/jpeg:https://www.arabamerica.com/wp-content/uploads/2
 024/05/Screenshot-2024-05-29-030305.png
LOCATION:NYC\, NYC\, NY 11211\, New York\, NY\, 11211\, United States
GEO:40.709336;-73.956555
X-APPLE-STRUCTURED-LOCATION;VALUE=URI;X-ADDRESS=NYC\, NY 11211\, New York\,
  NY\, 11211\, United States;X-APPLE-RADIUS=100;X-TITLE=NYC:geo:40.709336,-
 73.956555
END:VEVENT
BEGIN:VTIMEZONE
TZID:America/Detroit
X-LIC-LOCATION:America/Detroit
BEGIN:DAYLIGHT
DTSTART:20240310T030000
TZOFFSETFROM:-0500
TZOFFSETTO:-0400
TZNAME:EDT
END:DAYLIGHT
END:VTIMEZONE
END:VCALENDAR