BEGIN:VCALENDAR
VERSION:2.0
PRODID:-//wp-events-plugin.com//7.2.3.1//EN
TZID:America/Detroit
X-WR-TIMEZONE:America/Detroit
BEGIN:VEVENT
UID:34468@arabamerica.com
DTSTART;TZID=America/Detroit:20250610T100000
DTEND;TZID=America/Detroit:20250610T180000
DTSTAMP:20250527T222019Z
URL:https://www.arabamerica.com/events/lebanon-festival-of-the-arts/
SUMMARY:Lebanon Festival of the Arts
DESCRIPTION:LEBANON\, OH\n\n&nbsp\;\n\nGet ready to immerse yourself in the
  vibrant world of Lebanese art\, music\, dance\, and culture at the Lebano
 n Festival of the Arts!\n\nWelcome to the Lebanon Festival of the Arts! Jo
 in us for a day filled with creativity and inspiration in the heart of Dow
 ntown Lebanon\, Ohio. Get ready to immerse yourself in a vibrant showcase 
 of local talent\, including live music\, art exhibitions\, and interactive
  workshops. Whether you're a seasoned art enthusiast or just looking for a
  fun day out\, there's something for everyone at this exciting event. Don'
 t miss out on this unique opportunity to celebrate the arts with your comm
 unity. See you there!\n\nGet Tickets Here
ATTACH;FMTTYPE=image/jpeg:https://www.arabamerica.com/wp-content/uploads/2
 025/05/Screenshot-2025-05-27-at-6.16.57-PM.png
LOCATION:Downtown Lebanon Ohio\, 105 Broadway Street\, Lebanon\, OH\, 45036
 \, United States
GEO:39.432977;-84.209008
X-APPLE-STRUCTURED-LOCATION;VALUE=URI;X-ADDRESS=105 Broadway Street\, Leban
 on\, OH\, 45036\, United States;X-APPLE-RADIUS=100;X-TITLE=Downtown Lebano
 n Ohio:geo:39.432977,-84.209008
END:VEVENT
BEGIN:VTIMEZONE
TZID:America/Detroit
X-LIC-LOCATION:America/Detroit
BEGIN:DAYLIGHT
DTSTART:20250309T030000
TZOFFSETFROM:-0500
TZOFFSETTO:-0400
TZNAME:EDT
END:DAYLIGHT
END:VTIMEZONE
END:VCALENDAR