BEGIN:VCALENDAR
VERSION:2.0
PRODID:-//wp-events-plugin.com//7.2.3.1//EN
TZID:America/Detroit
X-WR-TIMEZONE:America/Detroit
BEGIN:VEVENT
UID:35349@arabamerica.com
DTSTART;TZID=America/Detroit:20251213T180000
DTEND;TZID=America/Detroit:20251213T213000
DTSTAMP:20251103T233831Z
URL:https://www.arabamerica.com/events/legacy-night-alumni-reunion-and-fun
 draiser/
SUMMARY:Legacy Night: Alumni Reunion and Fundraiser
DESCRIPTION:Relive the spirit of working together\, reconnect with old frie
 nds\, and raise hope for orphans in need on Saturday\, December 13th!
ATTACH;FMTTYPE=image/jpeg:https://www.arabamerica.com/wp-content/uploads/2
 025/11/https___cdn.evbuc_.com_images_1163774273_191796591436_1_original.jp
 g
CATEGORIES:Fundraiser,Fundraising,New York events
LOCATION:Masjid Eesa ibn Maryam\, 90-20 191st Street\, Queens\, NY\, 11423\
 , United States
GEO:40.713301;-73.769579
X-APPLE-STRUCTURED-LOCATION;VALUE=URI;X-ADDRESS=90-20 191st Street\, Queens
 \, NY\, 11423\, United States;X-APPLE-RADIUS=100;X-TITLE=Masjid Eesa ibn M
 aryam:geo:40.713301,-73.769579
END:VEVENT
BEGIN:VTIMEZONE
TZID:America/Detroit
X-LIC-LOCATION:America/Detroit
BEGIN:STANDARD
DTSTART:20251102T010000
TZOFFSETFROM:-0400
TZOFFSETTO:-0500
TZNAME:EST
END:STANDARD
END:VTIMEZONE
END:VCALENDAR