BEGIN:VCALENDAR
VERSION:2.0
PRODID:-//wp-events-plugin.com//7.2.3.1//EN
TZID:America/Detroit
X-WR-TIMEZONE:America/Detroit
BEGIN:VEVENT
UID:35864@arabamerica.com
DTSTART;TZID=America/Detroit:20260308T163000
DTEND;TZID=America/Detroit:20260308T210000
DTSTAMP:20260215T163235Z
URL:https://www.arabamerica.com/events/legal-muslim-community-iftar/
SUMMARY:Legal Muslim Community Iftar
DESCRIPTION:Come together in person to celebrate Ramadan with our community
 . Network with professionals in the legal profession\; open to law student
 s & community members/allies. It's the perfect chance to relax\, connect\,
  and soak up the spirit of the season. Everyone’s invited—let’s make
  this iftar a memorable one!
ATTACH;FMTTYPE=image/jpeg:https://www.arabamerica.com/wp-content/uploads/2
 026/02/image-20-1.webp
CATEGORIES:Iftar,Law,Networking
LOCATION:Four Points by Sheraton Norwood\, 1125 Boston-Providence Turnpike\
 , Norwood\, MA\, 02062\, United States
GEO:42.1756412;-71.19475269999998
X-APPLE-STRUCTURED-LOCATION;VALUE=URI;X-ADDRESS=1125 Boston-Providence Turn
 pike\, Norwood\, MA\, 02062\, United States;X-APPLE-RADIUS=100;X-TITLE=Fou
 r Points by Sheraton Norwood:geo:42.1756412,-71.19475269999998
END:VEVENT
BEGIN:VTIMEZONE
TZID:America/Detroit
X-LIC-LOCATION:America/Detroit
BEGIN:DAYLIGHT
DTSTART:20260308T030000
TZOFFSETFROM:-0500
TZOFFSETTO:-0400
TZNAME:EDT
END:DAYLIGHT
END:VTIMEZONE
END:VCALENDAR