BEGIN:VCALENDAR
VERSION:2.0
PRODID:-//wp-events-plugin.com//7.2.3.1//EN
TZID:America/Detroit
X-WR-TIMEZONE:America/Detroit
BEGIN:VEVENT
UID:31566@arabamerica.com
DTSTART;TZID=America/Detroit:20230915T190000
DTEND;TZID=America/Detroit:20230915T190000
DTSTAMP:20230816T152628Z
URL:https://www.arabamerica.com/events/leila-ma3-bassem-youssef-%d9%84%d9%
 8a%d9%84%d8%a9-%d9%85%d8%b9-%d8%a8%d8%a7%d8%b3%d9%85-%d9%8a%d9%88%d8%b3%d9
 %81/
SUMMARY:Leila Ma3 Bassem Youssef - ليلة مع باسم يوسف
DESCRIPTION:
ATTACH;FMTTYPE=image/jpeg:https://www.arabamerica.com/wp-content/uploads/2
 023/08/https___cdn.evbuc_.com_images_572239289_326257681271_1_original.jpe
 g
CATEGORIES:#arabic,Arab Ameircan Event,Arab American,Music/Folk/World
LOCATION:Gilley's Dallas South Side Music Hall 1135 Botham Jean Boulevard D
 allas\, Gilley's Dallas South Side Music Hall 1135 Botham Jean Boulevard\,
  Dallas\, TX\, United States
GEO:32.768742;-96.797462
X-APPLE-STRUCTURED-LOCATION;VALUE=URI;X-ADDRESS=Gilley's Dallas South Side 
 Music Hall 1135 Botham Jean Boulevard\, Dallas\, TX\, United States;X-APPL
 E-RADIUS=100;X-TITLE=Gilley's Dallas South Side Music Hall 1135 Botham Jea
 n Boulevard Dallas:geo:32.768742,-96.797462
END:VEVENT
BEGIN:VTIMEZONE
TZID:America/Detroit
X-LIC-LOCATION:America/Detroit
BEGIN:DAYLIGHT
DTSTART:20230312T030000
TZOFFSETFROM:-0500
TZOFFSETTO:-0400
TZNAME:EDT
END:DAYLIGHT
END:VTIMEZONE
END:VCALENDAR