BEGIN:VCALENDAR
VERSION:2.0
PRODID:-//wp-events-plugin.com//7.2.3.1//EN
TZID:America/Detroit
X-WR-TIMEZONE:America/Detroit
BEGIN:VEVENT
UID:35581@arabamerica.com
DTSTART;TZID=America/Detroit:20260416T110000
DTEND;TZID=America/Detroit:20260416T121500
DTSTAMP:20251216T184814Z
URL:https://www.arabamerica.com/events/lessons-from-the-middle-east-for-a-
 warming-planet-a-crown-seminar-with-on-barak-in-conversation-with-natasha-
 iskander/
SUMMARY:Lessons from the Middle East for a Warming Planet A Crown Seminar w
 ith On Barak\, in conversation with Natasha Iskander
DESCRIPTION:
ATTACH;FMTTYPE=image/jpeg:https://www.arabamerica.com/wp-content/uploads/2
 025/12/20th-735x490-1.jpg
END:VEVENT
BEGIN:VTIMEZONE
TZID:America/Detroit
X-LIC-LOCATION:America/Detroit
BEGIN:DAYLIGHT
DTSTART:20260308T030000
TZOFFSETFROM:-0500
TZOFFSETTO:-0400
TZNAME:EDT
END:DAYLIGHT
END:VTIMEZONE
END:VCALENDAR