BEGIN:VCALENDAR
VERSION:2.0
PRODID:-//wp-events-plugin.com//7.2.3.1//EN
TZID:America/Detroit
X-WR-TIMEZONE:America/Detroit
BEGIN:VEVENT
UID:35167@arabamerica.com
DTSTART;TZID=America/New_York:20251011T191500
DTEND;TZID=America/New_York:20251011T210000
DTSTAMP:20250930T153934Z
URL:https://www.arabamerica.com/events/let-the-music-speak-experience-100-
 years-of-arabic-classics/
SUMMARY:Let the Music Speak: Experience 100 Years of Arabic Classics
DESCRIPTION:ARLINGTON\, VA\n\n&nbsp\;\n\nFrom Um Kulthum to Wadi’ Al-Safi
 \, from the Qudud Halabiya to Fairouz — join us on a journey through the
  beloved treasures of Arabic classics\n\nTickets: $35 +$4.19 eventbrite Fe
 es.\n\n 	&#x2705\; Free parking at the venue\n 	&#x2705\; English translat
 ions of lyrics and song synopses\n 	&#x2705\; World-class musicians perfor
 ming timeless classics\n 	&#x2705\; All ages welcome\nFrom Um Kulthum to F
 airouz\, from Qudud Halabiya to Wadi’ Al-Safi — immerse yourself in th
 e golden era of Arabic classics performed live by the Torath Ensemble.\n\n
 &#x2728\; An evening to remember. A heritage to celebrate.\n\nGET TICKETS 
 HERE
ATTACH;FMTTYPE=image/jpeg:https://www.arabamerica.com/wp-content/uploads/2
 025/09/Screenshot-2025-09-30-at-11.36.58-AM.png
LOCATION:1301 N Stafford St\, 1301 N Stafford St\, Arlington\, VA\, 22201\,
  United States
GEO:38.887842;-77.11006
X-APPLE-STRUCTURED-LOCATION;VALUE=URI;X-ADDRESS=1301 N Stafford St\, Arling
 ton\, VA\, 22201\, United States;X-APPLE-RADIUS=100;X-TITLE=1301 N Staffor
 d St:geo:38.887842,-77.11006
END:VEVENT
BEGIN:VTIMEZONE
TZID:America/New_York
X-LIC-LOCATION:America/New_York
BEGIN:DAYLIGHT
DTSTART:20250309T030000
TZOFFSETFROM:-0500
TZOFFSETTO:-0400
TZNAME:EDT
END:DAYLIGHT
END:VTIMEZONE
END:VCALENDAR