BEGIN:VCALENDAR
VERSION:2.0
PRODID:-//wp-events-plugin.com//7.2.3.1//EN
TZID:America/Detroit
X-WR-TIMEZONE:America/Detroit
BEGIN:VEVENT
UID:34466@arabamerica.com
DTSTART;TZID=America/Detroit:20250614T100000
DTEND;TZID=America/Detroit:20250614T120000
DTSTAMP:20250527T153954Z
URL:https://www.arabamerica.com/events/lets-brunch-lebanese-style-w-endles
 s-mimosas-drink-bar/
SUMMARY:Let's Brunch\, Lebanese Style\, w/Endless Mimosas & Drink Bar
DESCRIPTION:\n\n\nPITTSBURGH\, PA\n\nALL AGES.\n\n&nbsp\;\n\nEnjoy a specia
 lity curated Lebanese brunch menu by Chef Jason including made from scratc
 h Lebanese flatbreads (manouche)\, pita wraps\, &amp\; more\n\n\n\n\n\n\nH
 abibis\, let's brunch\, Lebanese style\, with endless mimosas &amp\; hot d
 rink bar this Saturday\, April 12th from 10 am - 12 pm!! &#x1f942\;&#x1f37
 4\; Check out the special brunch menu specially curated by chef and owner\
 , Jason\, @abujasun. Yalla -- Preorder your ticket now with the link in bi
 o or walk ins on Saturday are also welcome until sold out! //Each brunch c
 omes with an unlimited drink menu with Lebanese mimosas\, coffee\, and tea
 !!//\n\n\n\n\n\n\n\n\n\n\n\n\n\n\n
ATTACH;FMTTYPE=image/jpeg:https://www.arabamerica.com/wp-content/uploads/2
 025/05/lebanese_brunch.png
LOCATION:Pita My Shawarma\, 3716 Butler Street\, Pittsburgh\, PA\, 15201\, 
 United States
GEO:40.46654;-79.964242
X-APPLE-STRUCTURED-LOCATION;VALUE=URI;X-ADDRESS=3716 Butler Street\, Pittsb
 urgh\, PA\, 15201\, United States;X-APPLE-RADIUS=100;X-TITLE=Pita My Shawa
 rma:geo:40.46654,-79.964242
END:VEVENT
BEGIN:VTIMEZONE
TZID:America/Detroit
X-LIC-LOCATION:America/Detroit
BEGIN:DAYLIGHT
DTSTART:20250309T030000
TZOFFSETFROM:-0500
TZOFFSETTO:-0400
TZNAME:EDT
END:DAYLIGHT
END:VTIMEZONE
END:VCALENDAR