BEGIN:VCALENDAR
VERSION:2.0
PRODID:-//wp-events-plugin.com//7.2.3.1//EN
TZID:America/Detroit
X-WR-TIMEZONE:America/Detroit
BEGIN:VEVENT
UID:34677@arabamerica.com
DTSTART;TZID=America/Detroit:20250705T150000
DTEND;TZID=America/Detroit:20250705T190000
DTSTAMP:20250702T013543Z
URL:https://www.arabamerica.com/events/liberation-imagined-a-community-art
 -day/
SUMMARY:Liberation Imagined: A Community Art Day
DESCRIPTION:Join PYM DMV at Dar Al Hurriyeh (Palestine House of Freedom\; 6
 50 Pennsylvania Ave. SE Washington DC) for an uplifting community art day 
 and fundraiser with cultural performances\, an open mic\, family activitie
 s\, and vendors centering on the theme of liberation imagined! All proceed
 s will support the Middle East Children’s Alliance (MECA) and the upcomi
 ng Peoples Conference for Palestine.\n\n&nbsp\;\n\nOur people in Gaza are 
 on the frontlines of resisting Zionism\, and the Zionist project aims to p
 unish them with starvation and rendering Gaza unlivable. Meanwhile in Amer
 ica\, those who speak out are punished and silenced. We must therefore com
 e together as a community to support our people and uplift our culture and
  resistance in defiance of our dehumanization\, criminalization\, and our 
 people’s struggle.\n\n&nbsp\;\n\nThis event benefiting MECA and the Peop
 les Conference for Palestine is a call on us to assume our responsibility 
 to tangibly support our people’s steadfastness and to recommit ourselves
  to the movement for Palestinian liberation here in the heart of U.S. empi
 re. Fundraising and expressing our culture are political acts that ensure 
 our people’s needs are met so that they are able to remain on the land\,
  steadfast and resilient in the face of genocide and displacement.\n\n&nbs
 p\;\n\nFree entry for kids under 3! Tickets are on a donation-based slidin
 g scale\, with a recommended donation of $10 to $20 dollars. No one will b
 e turned away for lack of funds! Please note that the Eventbrite system wi
 ll only allow you to reserve one ticket at a time.\n\n&nbsp\;\n\nFor any q
 uestions\, reach out to pymdmv@gmail.com.\n\n&nbsp\;\n\nSign the Anti-Geno
 cide pledge here!
ATTACH;FMTTYPE=image/jpeg:https://www.arabamerica.com/wp-content/uploads/2
 025/07/Screenshot-2025-07-01-at-8.34.12 PM.png
END:VEVENT
BEGIN:VTIMEZONE
TZID:America/Detroit
X-LIC-LOCATION:America/Detroit
BEGIN:DAYLIGHT
DTSTART:20250309T030000
TZOFFSETFROM:-0500
TZOFFSETTO:-0400
TZNAME:EDT
END:DAYLIGHT
END:VTIMEZONE
END:VCALENDAR