BEGIN:VCALENDAR
VERSION:2.0
PRODID:-//wp-events-plugin.com//7.2.3.1//EN
TZID:America/Detroit
X-WR-TIMEZONE:America/Detroit
BEGIN:VEVENT
UID:35454@arabamerica.com
DTSTART;TZID=America/Detroit:20251207T170000
DTEND;TZID=America/Detroit:20251207T200000
DTSTAMP:20251124T100712Z
URL:https://www.arabamerica.com/events/live-music-and-auction-for-gaza-2/
SUMMARY:Live Music and Auction for Gaza
DESCRIPTION:NASHVILLE\, TN\n\n\n\n\n\n\nGet ready to groove to live music w
 hile supporting a great cause at our event - it's gonna be a night to reme
 mber!\n\n\n\n\nJoin Us for an Intimate Night of Live Music and Auction for
  Gaza\n\nAn evening of unity\, rhythm\, and hope — bringing people toget
 her through music to support humanitarian relief efforts for Gaza.\n\nEven
 t Description:\n\nJoin us for a powerful night of live performances featur
 ing local artists Michael Bruno and Rico Del Oro\, food\, beverages\, and 
 an auction. This event celebrates the spirit of resilience and compassion\
 , with all proceeds supporting aid and relief for the Abu Zaid family in G
 aza.\n\nThe event will be held at 1502 Grandview Dr. Mark your calendars a
 nd bring your friends along for a fun-filled evening supporting a great ca
 use. Let's come together to help those in need and make a difference. See 
 you there!\n\nEvent Highlights:\n\n 	Live performances by talented musicia
 ns and vocalists\n 	Art and photography inspired by hope and humanity\n 	A
 uction items include jewelry\, guitar lessons\, and voice lessons\n 	Food 
 and drinks provided\n 	Donation awareness\n\n\n\n\n\n\n\n\n\n\n\n\n\nShow 
 less
ATTACH;FMTTYPE=image/jpeg:https://www.arabamerica.com/wp-content/uploads/2
 025/11/https-cdn.evbuc_.com-images-1170553294-103817878435-1-original.2025
 1110-013636.jpeg
LOCATION:1502 Grandview Dr\, 1502 Grandview Dr\, Nashville\, TN\, 37215\, U
 nited States
GEO:36.108982;-86.798285
X-APPLE-STRUCTURED-LOCATION;VALUE=URI;X-ADDRESS=1502 Grandview Dr\, Nashvil
 le\, TN\, 37215\, United States;X-APPLE-RADIUS=100;X-TITLE=1502 Grandview 
 Dr:geo:36.108982,-86.798285
END:VEVENT
BEGIN:VTIMEZONE
TZID:America/Detroit
X-LIC-LOCATION:America/Detroit
BEGIN:STANDARD
DTSTART:20251102T010000
TZOFFSETFROM:-0400
TZOFFSETTO:-0500
TZNAME:EST
END:STANDARD
END:VTIMEZONE
END:VCALENDAR