BEGIN:VCALENDAR
VERSION:2.0
PRODID:-//wp-events-plugin.com//7.2.3.1//EN
TZID:America/Detroit
X-WR-TIMEZONE:America/Detroit
BEGIN:VEVENT
UID:35776@arabamerica.com
DTSTART;TZID=America/Detroit:20260307T100000
DTEND;TZID=America/Detroit:20260307T220000
DTSTAMP:20260128T013319Z
URL:https://www.arabamerica.com/events/long-islands-premier-ramadan-bazaar
 /
SUMMARY:**Long Island’s Premier Ramadan Bazaar**
DESCRIPTION:Overview\n\n\n\n\nMuslims of New York warmly invite you and you
 r family to our **Annual Ramadan Bazaar**\n\n\n\n\n\n\nThis all-day Ramada
 n Bazaar is designed for the whole family—whether you’re shopping for 
 Eid outfits\, finding the perfect gift\, or enjoying the festive atmospher
 e with friends and loved ones. Come celebrate Eid in a space filled with j
 oy\, community\, and tradition.\n\n&#x1f4c5\; Date: Saturday\, March 7\, 2
 026\n\n&#x23f0\; Time:10:00 AM – 10:00 PM\n\n&#x1f4cd\; Venue: Sapphire 
 Banquet\n\n*(Antun’s Previous Location)*\n\n244 West Old Country Road\n\
 nHicksville\, NY 11801\n\n&#x2728\; Bigger\, better\, and more memorable t
 han ever before — this is the Ramadan Bazaar you don’t want to miss.\n
 \n\n\n
ATTACH;FMTTYPE=image/jpeg:https://www.arabamerica.com/wp-content/uploads/2
 026/01/image-10-1.webp
LOCATION:Sapphire Banquet hall\, 244 West Old Country Road\, Hicksville\, N
 Y\, 11801\, United States
GEO:40.761597;-73.530119
X-APPLE-STRUCTURED-LOCATION;VALUE=URI;X-ADDRESS=244 West Old Country Road\,
  Hicksville\, NY\, 11801\, United States;X-APPLE-RADIUS=100;X-TITLE=Sapphi
 re Banquet hall:geo:40.761597,-73.530119
END:VEVENT
BEGIN:VTIMEZONE
TZID:America/Detroit
X-LIC-LOCATION:America/Detroit
BEGIN:STANDARD
DTSTART:20251102T010000
TZOFFSETFROM:-0400
TZOFFSETTO:-0500
TZNAME:EST
END:STANDARD
END:VTIMEZONE
END:VCALENDAR