BEGIN:VCALENDAR
VERSION:2.0
PRODID:-//wp-events-plugin.com//7.2.3.1//EN
TZID:America/Detroit
X-WR-TIMEZONE:America/Detroit
BEGIN:VEVENT
UID:34913@arabamerica.com
DTSTART;TZID=America/Los_Angeles:20251019T180000
DTEND;TZID=America/Los_Angeles:20251019T210000
DTSTAMP:20250805T195922Z
URL:https://www.arabamerica.com/events/los-angeles-arab-orchestra-fall-202
 5/
SUMMARY:Los Angeles Arab Orchestra Fall 2025
DESCRIPTION:Welcome to the Los Angeles Arab Orchestra Fall 2025!\n\nDate: 
 November 15\, 2025\n\nLocation: Burbank High School\n\nJoin us for a magi
 cal evening filled with enchanting melodies and captivating performances b
 y talented musicians. Immerse yourself in the rich cultural heritage of Ar
 ab music while enjoying the vibrant atmosphere of our in-person event. Don
 't miss out on this unique opportunity to experience the beauty of Arab mu
 sic right here in Los Angeles. Mark your calendars and get ready for a nig
 ht to remember at the Los Angeles Arab Orchestra Fall 2025!
ATTACH;FMTTYPE=image/jpeg:https://www.arabamerica.com/wp-content/uploads/2
 025/08/Screenshot-2025-08-05-at-2.54.07-PM.png
LOCATION:Burbank High School\, 902 North 3rd Street\, Burbank \, CA\, 91502
 \, United States
GEO:34.188549;-118.315342
X-APPLE-STRUCTURED-LOCATION;VALUE=URI;X-ADDRESS=902 North 3rd Street\, Burb
 ank \, CA\, 91502\, United States;X-APPLE-RADIUS=100;X-TITLE=Burbank High 
 School:geo:34.188549,-118.315342
END:VEVENT
BEGIN:VTIMEZONE
TZID:America/Los_Angeles
X-LIC-LOCATION:America/Los_Angeles
BEGIN:DAYLIGHT
DTSTART:20250309T030000
TZOFFSETFROM:-0800
TZOFFSETTO:-0700
TZNAME:PDT
END:DAYLIGHT
END:VTIMEZONE
END:VCALENDAR