BEGIN:VCALENDAR
VERSION:2.0
PRODID:-//wp-events-plugin.com//7.2.3.1//EN
TZID:America/Detroit
X-WR-TIMEZONE:America/Detroit
BEGIN:VEVENT
UID:34980@arabamerica.com
DTSTART;TZID=America/Detroit:20250817T190000
DTEND;TZID=America/Detroit:20250817T201500
DTSTAMP:20250812T192029Z
URL:https://www.arabamerica.com/events/lotus-be-lovers-lotus-laugh-a-benef
 it-show-for-khaled-from-gaza/
SUMMARY:lotus be lovers: lotus laugh (A Benefit Show for Khaled from Gaza)
DESCRIPTION:BROOKLYN\, NY\n\n\n\nDOORS: 6:30 PM\n\nSHOW: 7:00 PM\n\nEris Ma
 instage\n\nJoin host Robert "Bobbi" Pinn and our headliner\, GG and her ba
 nd the House of Haha\, for an evening dedicated to laughter and uplifting 
 others. They say laughter is the best medicine\, and as a cancer survivor 
 and founder of lotus be lovers\, Bobbi knows just how healing it is to cop
 e joyously. Let's commune\, cope\, and cry tears of laughter together\, al
 l while raising money for Khaled\, a cancer patient from Gaza. An evening 
 of comedy\, live-singing\, raffle prizes\, and community love awaits you.\
 n\nShow Lineup : Robert "Bobbi" Pin @robertpinndrag &amp\; Giselle General
 ly @itsjuuust_gg and the House of Hehe!\n\nFine Print:\n\n 	Must be 21+ to
  attend. No outside alcohol is allowed in the space.\n 	There are 60 seats
  - first come\, first serve - and then standing room up to capacity.\n 	Al
 l ticket sales are final - no refunds. If you must miss your show\, email 
 us at info@brooklyncc.com with at least 24 hours notice and we can transfe
 r your tickets to any upcoming show at the BCC. Answers to most other ques
 tions can be found here.\n 	If show is sold out\, limited tickets will be 
 available at the door.\n 	If you have questions about accessibility needs 
 at our venue\, please reach out to info@brooklyncc.com.\n 	Lineup subject 
 to change.\n\n&nbsp\;\n\n&nbsp\;\n\nPhotographic Consent DisclaimerBy purc
 hasing a ticket\, you consent to be photographed\, filmed and/or otherwise
  recorded at the venue. Your attendance constitutes your consent to such p
 hotography\, filming and/or recording and to any ongoing use in social med
 ia or future promotional materials at the BCC. You understand that all pho
 tography\, filming and/or recording will be done in reliance on this conse
 nt given by you attending this event. If you do not agree to the foregoing
 \, please email us at info@brooklyncc.com after the show\, and we will mak
 e sure not to use your image in our promotional materials.
ATTACH;FMTTYPE=image/jpeg:https://www.arabamerica.com/wp-content/uploads/2
 025/08/lotu.jpeg
LOCATION:Brooklyn Comedy Collective\, 167 Graham Avenue \, BrooklyN\, NY\, 
 11206\, United States
GEO:40.707733;-73.943541
X-APPLE-STRUCTURED-LOCATION;VALUE=URI;X-ADDRESS=167 Graham Avenue \, Brookl
 yN\, NY\, 11206\, United States;X-APPLE-RADIUS=100;X-TITLE=Brooklyn Comedy
  Collective:geo:40.707733,-73.943541
END:VEVENT
BEGIN:VTIMEZONE
TZID:America/Detroit
X-LIC-LOCATION:America/Detroit
BEGIN:DAYLIGHT
DTSTART:20250309T030000
TZOFFSETFROM:-0500
TZOFFSETTO:-0400
TZNAME:EDT
END:DAYLIGHT
END:VTIMEZONE
END:VCALENDAR