BEGIN:VCALENDAR
VERSION:2.0
PRODID:-//wp-events-plugin.com//7.2.3.1//EN
TZID:America/Detroit
X-WR-TIMEZONE:America/Detroit
BEGIN:VEVENT
UID:29263@arabamerica.com
DTSTART;TZID=America/Detroit:20230519T200000
DTEND;TZID=America/Detroit:20230519T200000
DTSTAMP:20220823T193144Z
URL:https://www.arabamerica.com/events/love-and-loss-traditional-music-of-
 syria/
SUMMARY:Love and Loss: Traditional Music of Syria
DESCRIPTION:NEW YORK\n\n&nbsp\;\n\nSMPI’s Takht al-Nagham\, led by Artist
 ic Director Samer Ali presents “Love and Loss: Classical Music of Syri
 a\,” featuring works by Syrian composers. This classical program will be
  performed by a traditional takht and will include the oud (Arab lute). Th
 e theme of love and loss is common throughout the classical Syrian reperto
 ire and remains relevant to their reality today.\n\n&nbsp\;\n\n&nbsp\;\nPe
 rformers\nSamer Ali\, Violin\nMarissa Arciola\, Bass\nAdditional artists t
 o be announced\nProgram\n\n\nWorks by Mahmood Aijan\, Majdi al-'Aqili\, Kh
 alil Haj Hussein\, Ziad Aijan\, Samer Ali\, and traditional works by Syria
 n composers\n\n
ATTACH;FMTTYPE=image/jpeg:https://www.arabamerica.com/wp-content/uploads/2
 022/08/Screenshot-2022-08-23-143111.jpg
CATEGORIES:culture,Music/Folk/World
LOCATION:Carnegie Hall\, 881 7th Avenue\, New York\, NY\, United States
GEO:40.764938;-73.979897
X-APPLE-STRUCTURED-LOCATION;VALUE=URI;X-ADDRESS=881 7th Avenue\, New York\,
  NY\, United States;X-APPLE-RADIUS=100;X-TITLE=Carnegie Hall:geo:40.764938
 ,-73.979897
END:VEVENT
BEGIN:VTIMEZONE
TZID:America/Detroit
X-LIC-LOCATION:America/Detroit
BEGIN:DAYLIGHT
DTSTART:20230312T030000
TZOFFSETFROM:-0500
TZOFFSETTO:-0400
TZNAME:EDT
END:DAYLIGHT
END:VTIMEZONE
END:VCALENDAR