BEGIN:VCALENDAR
VERSION:2.0
PRODID:-//wp-events-plugin.com//7.2.3.1//EN
TZID:America/Detroit
X-WR-TIMEZONE:America/Detroit
BEGIN:VEVENT
UID:33184@arabamerica.com
DTSTART;TZID=America/Detroit:20240804T103000
DTEND;TZID=America/Detroit:20240804T173000
DTSTAMP:20240709T105939Z
URL:https://www.arabamerica.com/events/love-unlocked-keys-to-martial-bliss
 -marriage-conference-2024/
SUMMARY:Love Unlocked: Keys to Martial Bliss - Marriage Conference 2024
DESCRIPTION:ROSEVILLE\, MN\n\nWelcome to Love Unlocked: Keys to Marital Bli
 ss - Marriage Conference!\n\nJoin us for a day filled with marital guidanc
 e on connection\, love\, and wisdom. This in-person event is perfect for
  anyone looking to build a blissful marriage filled with joy\, and God-cen
 tered wisdom.\n\nEvent Topics:\n\n 	Foundation of Forever: Learn the four 
 cornerstones of a successful marriage.\n 	Self-Reflection: Would you marry
  yourself? Discover your qualities as a partner.\n 	Wisdom Woven: Gain ins
 ights from 30 years of marital experience.\n 	Bonding Through Words: Maste
 r essential communication skills for a thriving relationship.\n 	The Perfe
 ct Partner: Explore the exemplary marital practices of Prophet Muhammad (S
 AW).\n 	Strengthening Your Bond: Deepen your connection with Allah and eac
 h other.\n\nDon't miss out on this opportunity to create unforgettable mem
 ories and unlock the love in your heart. See you there!
ATTACH;FMTTYPE=image/jpeg:https://www.arabamerica.com/wp-content/uploads/2
 024/07/Screenshot-2024-07-09-035612.png
LOCATION:Roseville Skating Center\, 2661 Civic Center Drive \, Saint Paul\,
  MN\, 55113\, United States
GEO:45.021784;-93.150206
X-APPLE-STRUCTURED-LOCATION;VALUE=URI;X-ADDRESS=2661 Civic Center Drive \, 
 Saint Paul\, MN\, 55113\, United States;X-APPLE-RADIUS=100;X-TITLE=Rosevil
 le Skating Center:geo:45.021784,-93.150206
END:VEVENT
BEGIN:VTIMEZONE
TZID:America/Detroit
X-LIC-LOCATION:America/Detroit
BEGIN:DAYLIGHT
DTSTART:20240310T030000
TZOFFSETFROM:-0500
TZOFFSETTO:-0400
TZNAME:EDT
END:DAYLIGHT
END:VTIMEZONE
END:VCALENDAR