BEGIN:VCALENDAR
VERSION:2.0
PRODID:-//wp-events-plugin.com//7.2.3.1//EN
TZID:America/Detroit
X-WR-TIMEZONE:America/Detroit
BEGIN:VEVENT
UID:35459@arabamerica.com
DTSTART;TZID=America/Detroit:20251206T150000
DTEND;TZID=America/Detroit:20251206T150000
DTSTAMP:20251124T153817Z
URL:https://www.arabamerica.com/events/luminaries-spotlighting-black-musli
 m-filmmakers-2/
SUMMARY:Luminaries - Spotlighting Black Muslim Filmmakers
DESCRIPTION:LOS ANGELES\, CA\n\n\n\nWe're shining a light on talented Black
  Muslim filmmakers at Luminaries - come join us for a night of powerful st
 orytelling.\n\n\n\n\nLuminaries - Spotlighting Black Muslim Filmmakers\n\n
 Come join us at Strategy and Soul Theatre for an evening celebrating the c
 reativity and talent of Black Muslim filmmakers. This in-person event will
  showcase a selection of thought-provoking films that highlight the unique
  perspectives and voices within the Black Muslim community. Don't miss thi
 s opportunity to support and uplift these incredible artists. See you ther
 e!\n\n\n
ATTACH;FMTTYPE=image/jpeg:https://www.arabamerica.com/wp-content/uploads/2
 025/11/https-cdn.evbuc_.com-images-1170837230-183433657836-1-original.2025
 1113-000249.jpeg
LOCATION:Strategy and Soul Bookstore\, 3542 West Martin Luther King Junior 
 Boulevard\, Los Angeles\, CA\, 90008\, United States
GEO:34.010714;-118.334314
X-APPLE-STRUCTURED-LOCATION;VALUE=URI;X-ADDRESS=3542 West Martin Luther Kin
 g Junior Boulevard\, Los Angeles\, CA\, 90008\, United States;X-APPLE-RADI
 US=100;X-TITLE=Strategy and Soul Bookstore:geo:34.010714,-118.334314
END:VEVENT
BEGIN:VTIMEZONE
TZID:America/Detroit
X-LIC-LOCATION:America/Detroit
BEGIN:STANDARD
DTSTART:20251102T010000
TZOFFSETFROM:-0400
TZOFFSETTO:-0500
TZNAME:EST
END:STANDARD
END:VTIMEZONE
END:VCALENDAR