BEGIN:VCALENDAR
VERSION:2.0
PRODID:-//wp-events-plugin.com//7.2.3.1//EN
TZID:America/Detroit
X-WR-TIMEZONE:America/Detroit
BEGIN:VEVENT
UID:35564@arabamerica.com
DTSTART;TZID=America/Los_Angeles:20260306T183000
DTEND;TZID=America/Los_Angeles:20260306T183000
DTSTAMP:20251216T155607Z
URL:https://www.arabamerica.com/events/lynnwood-iftar-dinner-for-christian
 s-and-muslims-3/
SUMMARY:Lynnwood Iftar dinner for Christians and Muslims
DESCRIPTION:\nLYNNWOOD\, WA\n\nA dinner for Christians and Muslims to make 
 friends and have meaningful conversation about life's biggest questions.\n
 \n\n\n\nChristianity and Islam are the world's biggest ideas and it is imp
 ortant that we have meaningful conversations and real friendships with one
  another.\n\nJoin us for a night of tasty food and meaningful conversation
  after sunset hosted by Refuge Church and The Al-Ma'idah Initiative. Come 
 at 6:30pm so we can all be seated and ready to eat at sunset (7:02pm). The
  only programming for the evening will be dinner and conversation at table
 s.\n\nFood is free\, catered\, and halal. Caterer to be determined.\n\nThe
  Al-Ma'idah Initiative is a Christian nonprofit organization that facilita
 tes friendship and conversation between Christians and Muslims. Learn more
  at al-maidah.org\n\nREGISTER HERE\n\n\n
ATTACH;FMTTYPE=image/jpeg:https://www.arabamerica.com/wp-content/uploads/2
 025/12/Screenshot-2025-12-16-at-10.44.47-AM-1.png
LOCATION:Refuge Church\, 2609 Larch Way\, Lynnwood\, WA\, 98036\, United St
 ates
GEO:47.811424;-122.268677
X-APPLE-STRUCTURED-LOCATION;VALUE=URI;X-ADDRESS=2609 Larch Way\, Lynnwood\,
  WA\, 98036\, United States;X-APPLE-RADIUS=100;X-TITLE=Refuge Church:geo:4
 7.811424,-122.268677
END:VEVENT
BEGIN:VTIMEZONE
TZID:America/Los_Angeles
X-LIC-LOCATION:America/Los_Angeles
BEGIN:STANDARD
DTSTART:20251102T010000
TZOFFSETFROM:-0700
TZOFFSETTO:-0800
TZNAME:PST
END:STANDARD
END:VTIMEZONE
END:VCALENDAR