BEGIN:VCALENDAR
VERSION:2.0
PRODID:-//wp-events-plugin.com//7.2.3.1//EN
TZID:America/Detroit
X-WR-TIMEZONE:America/Detroit
BEGIN:VEVENT
UID:32887@arabamerica.com
DTSTART;TZID=America/Detroit:20240628T120000
DTEND;TZID=America/Detroit:20240630T150000
DTSTAMP:20240522T090407Z
URL:https://www.arabamerica.com/events/m-a-l-i-12th-annual-quranic-confere
 nce-2024/
SUMMARY:M.A.L.I. 12th Annual Qur'anic Conference 2024
DESCRIPTION:\n\n\nPHILADELPHIA\, PA\n\nABOUT M.A.L.I.\n\nMuslim American Lo
 gic Institute (M.A.L.I.) was founded and is directed by Imam Salim MuMin o
 f Detroit\, Michigan. It is a premier online learning institute for compre
 hending Qur'anic Arabic. M.A.L.I. is an institution devoted to the study a
 nd preservation of Muslim American Qur'anic logic and teaching of Al-Islam
  in America. The M.A.L.I. conference occurs annually throughout the United
  States. The conference showcases the accomplishments of current Institute
  students who study Qur'anic Arabic year-round. The M.A.L.I. conference is
  designed to inspire Muslims in various regions of the United States to ta
 ke up the study of the Final Revelation in its original language. M.A.L.I.
  appreciates the support of those who value the study of Qur'anic Arabic.\
 n\n\n\n\n\n\nM.A.L.I. 12th Annual Qur'anic Conference 2024\n\nJoin us for 
 the M.A.L.I. (Muslim American Logic Institute)12th Annual Qur'anic Confere
 nce! This exciting in-person event is hosted by and will take place at Ma
 sjidullah - The Center for Human Excellence in Philadelphia\, PA. Themed:
  "Parents as Guardian Evolvers: From Infancy to Maturity"\, get ready to d
 ive deep into the teachings of the Qur'an and engage in interactive group 
 discussions with M.A.L.I. student authors. Enjoy a vibrant atmosphere of l
 earning\, reflection\, and Qur'anic growth. Don't miss this incredible opp
 ortunity to expand your knowledge and connect with fellow Believers. Mark 
 your calendars for the M.A.L.I. 12th Annual Qur'anic Conference 2024!\n\n\
 n\n\n\n\nCONFERENCE SCHEDULE:\n\nView or download a copy of the Conference
  schedule:\n\nhttps://drive.google.com/file/d/1yRp3qf9nOCd9qsuvqmB8jMZKEBd
 V2Qjk/view?usp=sharing\n\n\n\n\n\n\nCOUNT DOWN TIMER\n\nhttps://www.timean
 ddate.com/countdown/generic?iso=20240628T00&amp\;p0=198&amp\;msg=2024+Musl
 im+American+Logic+Institute+%28M.A.L.I.%29+12th+Qur%27anic+Conference&amp\
 ;ud=1&amp\;font=cursive&amp\;csz=1\n\n\n\n\n\n\nREGISTRATION\n\nYour weeke
 nd registration includes\n\n 	Conference Registration package\n 	Workshops
 \n 	Saturday Lunch\n 	Saturday Dinner\n\nCost\n\n 	$125 - Adults (18 years
  and older)\n 	$45 - Students (17 years and younger)\n\nOnline:\n\nYou may
  register online via Eventbrite at https://mali2024conf.eventbrite.com\n\
 nEventbrite will close on June 8th. After that time\, you can register at 
 the conference location\, Masjidullah in Philadelphia\, starting Friday\, 
 June 28th at 10 AM.\n\nMail-in:\n\nDownload paper registration at: https:
 //drive.google.com/file/d/1b82y2Yn5HgDjgHPgQ6s0muYHHHThVf1P/view?usp=shari
 ng\n\nRegistration forms have to be postmarked by Monday\, June 10th. Ma
 ke check payable to Masjidullah and send to MASJIDULLAH\, 7433-35 Limekiln
  Pike\, Philadelphia\, PA 19138\, Attention MALI Registration 2024\, Phone
 : 215-621-7800 or Fax: 215-621-7880.\n\n\n\n\n\n\nVENDING\n\nVending space
  is free with Conference Registration. Everyone in the vending party need
 s to register. Once registered for the Conference\, contact Vending Coordi
 nator - Hajji Khalil Ghani at alfurqan@aol.com or 215-432-2708.\n\nYour 
 vending reservation includes a space\; you must supply your vending table 
 (6x2) and chairs. Please contact the Vending Coordinator if you would like
  to rent a table for $20\, and/or nightly security for $25 for the weekend
 .\n\nSpaces are limited\, first paid\, first served.\n\n\n\n\n\n\nHOTELS\n
 \nFor hotel questions or concerns\, please contact Br. Saleem Abdul Lateef
  at 267-978-7760 or call the Masjidullah Business Office at 215-621-7800.\
 n\nCode: MALI Education Conference\n\n 	Unless noted\, hotel amenities inc
 lude wheelchair accessibility\, free parking\, free breakfast\, and free w
 ifi\n\nBest Western (formerly Sonesta Simply Suites) (Willow Grove)\n\n250
  Business Center Drive\, Horsham\, PA 19004\n\nRate: $84.00 per night plus
  tax\n\nReservation: 844-201-3413\, Reservation Code: MALI\n\nGroup rate 
 cutoff: June 7\, 2024\n\n*No Free Breakfast\n\nSpringhill Suites (Willow G
 rove)\n\n3900 Commerce Avenue\, Willow Grove\, PA\n\nRate: $119.00 per nig
 ht plus tax\n\nReservation: 215-657-7800\, Reservation Code: MALI Confere
 nce\n\nGroup rate cutoff: May 25\, 2024\n\nHampton Inn\n\n1500 Easton Road
  Willow Grove\, PA\n\nRate: $139.00 per night plus tax\n\nReservation: 888
 -446-6677\, Reservation Code: MALI Conference\n\nGroup rate cutoff: June 
 7\, 2024\n\nCourtyard Marriott (Willow Grove)\n\n2350 Easton Route 611\, W
 illow Grove\, PA 19090\n\nRate: $139-149.00 per night plus tax\n\nReservat
 ion: 215.830.0550\, Reservation Code: MALI Conference\n\nGroup rate cutof
 f: May 27\, 2024\n\n*No Free Breakfast\n\nResidence Inn Marriott (Willow G
 rove)\n\n3 Walnut Grove Drive\, Horsham\, PA 19044\n\nRate: $149-169.00 pe
 r night plus tax\n\nReservation: 215.830.0550\, Reservation Code: MALI Co
 nference\n\nGroup rate cutoff: May 27\, 2024\n\nBest Western\n\n285 Commer
 ce Drive\, Ft. Washington\, PA 19034\n\nRate: $99.00 per night plus tax\n\
 nReservation: 215-542-7930\, Reservation Code: MALI Conference\n\nGroup r
 ate cutoff: June 6\, 2024\n\n\n\n\n\n\nTRANSPORTATION\n\nMasjid Event Shut
 tle:\n\nEvent Transportation for the weekend (Fri - Sun) includes Transpor
 t from Conference Hotels to Masjidullah and return to hotels. **Cost is pe
 r person\, no couple rates.\n\n 	$20 per person per day\n 	$50 per person 
 for the weekend (Fri - Sun)\n\n**Hotels do not offer an airport shuttle. P
 lease secure your transportation arrangements from and to the Airport. Som
 e options are:\n\n 	UBER or LYFT (Be sure to download apps on your phone)\
 n 	Car rental\n 	Cab/taxi\n\nFor more info\, contact Transportation Coordi
 nator\, Hajji Mumin Abdul Jihad at 484-744-3270 or muscommentary@yahoo.com
 \n\n\n\n\n\n\nMEALS:\n\nYour conference registration fee includes Saturday
  lunch and Saturday night dinner.\n\n 	For Saturday Dinner\, the meal sele
 ction is CHICKEN / FISH / VEGETARIAN / VEGAN\n\nMeals will be available fo
 r purchase at the Masjid on:\n\n 	Friday after Jumu'ah\n 	Friday evening's
  Meet\, greet and discussion with the Authors\n 	Sunday afternoon\n\n\n\n\
 n\n\nREFUNDS:\n\nNo refunds will be returned via Eventbrite.\n\nYou may re
 quest a refund through June 16\, 2024\, by calling Br. Saleem at 267-978-7
 760.\n\nPlease provide your Eventbrite Order Number. No refunds will be is
 sued after June 16th.\n\n\n\n\n\n\nCONTACT INFO:\n\n 	Chair/Contact: Salee
 m Abdullateef lateef501@verizon.net 267-978-7760\n 	Co-chair: Bro. Hakim
  Matthews hakimest60@gmail.com 267-342-2521\n 	Vending: Hajji Khalil Gha
 ni alfurqan@aol.com 215-432-2708\n 	Transportation: Mumin Abdullahjahid
  muscommentary@yahoo.com 484-744-3270\n 	Masjidullah Business Office at 
 215-621-7800.\n\n\n\n\n\n\n\n\n\n
ATTACH;FMTTYPE=image/jpeg:https://www.arabamerica.com/wp-content/uploads/2
 024/05/Screenshot-2024-05-22-015519.png
LOCATION:Masjidullah\, 7401 Limekiln Pike\, Philadelphia\, PA\, 19138\, Uni
 ted States
GEO:40.067531;-75.158336
X-APPLE-STRUCTURED-LOCATION;VALUE=URI;X-ADDRESS=7401 Limekiln Pike\, Philad
 elphia\, PA\, 19138\, United States;X-APPLE-RADIUS=100;X-TITLE=Masjidullah
 :geo:40.067531,-75.158336
END:VEVENT
BEGIN:VTIMEZONE
TZID:America/Detroit
X-LIC-LOCATION:America/Detroit
BEGIN:DAYLIGHT
DTSTART:20240310T030000
TZOFFSETFROM:-0500
TZOFFSETTO:-0400
TZNAME:EDT
END:DAYLIGHT
END:VTIMEZONE
END:VCALENDAR