BEGIN:VCALENDAR
VERSION:2.0
PRODID:-//wp-events-plugin.com//7.2.3.1//EN
TZID:America/Detroit
X-WR-TIMEZONE:America/Detroit
BEGIN:VEVENT
UID:34348@arabamerica.com
DTSTART;TZID=America/Detroit:20250620T120000
DTEND;TZID=America/Detroit:20250622T130000
DTSTAMP:20250424T195216Z
URL:https://www.arabamerica.com/events/m-a-l-i-13th-annual-quranic-confere
 nce-2025-2/
SUMMARY:M.A.L.I. 13th Annual Qur'anic Conference 2025
DESCRIPTION:DURHAM\, NC\n\nABOUT M.A.L.I.\n\nMuslim American Logic Institut
 e (M.A.L.I.) was founded and is directed by Imam Salim MuMin of Detroit\, 
 Michigan. It is a premier online learning institute for comprehending Qur'
 anic Arabic. M.A.L.I. is an institution devoted to the study and preservat
 ion of Muslim American Qur'anic logic and teaching of Al-Islam in America.
  The M.A.L.I. conference occurs annually throughout the United States. The
  conference showcases the accomplishments of current Institute students wh
 o study Qur'anic Arabic year-round. The M.A.L.I. conference is designed to
  inspire Muslims in various regions of the United States to take up the st
 udy of the Final Revelation in its original language. M.A.L.I. appreciates
  the support of those who value the study of Qur'anic Arabic. Join the mai
 ling list at https://www.muslimamericanlogic.org/\n\nM.A.L.I. 13th Annual
  Qur'anic Conference 2025\n\nJoin us for the M.A.L.I. (Muslim American Log
 ic Institute)13th Annual Qur'anic Conference! This exciting in-person even
 t is hosted by Imam Salim and the M.A.L.I. students. All events will take 
 place at the MILLENNIUM HOTELS AND RESORTS in Durham\, NC. Themed: "The 
 Virtues of Marriage"\, get ready to dive deep into the teachings of the Qu
 r'an and engage in interactive group discussions with M.A.L.I. student aut
 hors. Enjoy a vibrant atmosphere of learning\, reflection\, and Qur'anic g
 rowth. Don't miss this incredible opportunity to expand your knowledge and
  connect with fellow Believers. Mark your calendars for the M.A.L.I. 13th 
 Annual Qur'anic Conference 2025!\n\nREGISTRATION\n\nYour weekend Conferenc
 e Registration package includes:\n\nFriday\n\n 	Meet &amp\; Greet\n 	"Ten 
 Virtues of Marriage" Book Signing\n 	Author's book discussion &amp\; group
  chat\n\nSaturday\n\n 	Workshops\n 	Saturday Lunch\n 	Saturday Dinner\n\nS
 unday\n\n 	Sunday Public Address\n
ATTACH;FMTTYPE=image/jpeg:https://www.arabamerica.com/wp-content/uploads/2
 025/04/Screenshot-2025-04-24-124917.jpg
CATEGORIES:Conference,Conference/Convention
LOCATION:2800 Campus Walk Ave\, 2800 Campus Walk Ave\, Durham\, NC\, 27705\
 , United States
GEO:36.011048;-78.952841
X-APPLE-STRUCTURED-LOCATION;VALUE=URI;X-ADDRESS=2800 Campus Walk Ave\, Durh
 am\, NC\, 27705\, United States;X-APPLE-RADIUS=100;X-TITLE=2800 Campus Wal
 k Ave:geo:36.011048,-78.952841
END:VEVENT
BEGIN:VTIMEZONE
TZID:America/Detroit
X-LIC-LOCATION:America/Detroit
BEGIN:DAYLIGHT
DTSTART:20250309T030000
TZOFFSETFROM:-0500
TZOFFSETTO:-0400
TZNAME:EDT
END:DAYLIGHT
END:VTIMEZONE
END:VCALENDAR